BEGIN:VCALENDAR
VERSION:2.0
PRODID:-//aldridgegardens.com//NONSGML kigkonsult.se iCalcreator 2.30.10//
CALSCALE:GREGORIAN
METHOD:PUBLISH
UID:4d4690a1-bf75-4c59-8799-a04585c2d4cf
X-WR-CALDESC:Saturday\, June 13th 9 a.m. to 5 p.m. \nand Sunday\, June 14th
  10 a.m. to 4 p.m.\n\nStroll through the Gardens and see the works of some
  of the best artists in the country\, and\, of course\, shop! A multitude 
 of artisans will compete for category and best of show awards in this juri
 ed open-air show that features only Alabama artists. Returning again this 
 year will be crowd favorite jewelry artist Julie Jackson\, plus many fresh
  faces in woodworking\, jewelry\, glass\, sculpture\, painting\, watercolo
 r\, photography\, drawing\, clay\, printmaking\, and mixed media.\n\nFood 
 will be available for purchase and an ATM will be onsite in the Aldridge H
 ouse. \n\n<i>Your $5 per person entry fee supports the arts at Aldridge Ga
 rdens - visitors younger than 16 get in free. \n\nOff-site parking with sh
 uttles will be available at the Bed Bath & Beyond parking area on Lorna Ro
 ad. The shuttles will run from 30 minutes before the show begins until 30 
 minutes after the show ends on Saturday and Sunday.</i>\n\nHere are just a
  few of the artists scheduled to be there:\n- Troy Crisswell (troycrisswel
 l.com)\n- Debra Riffe (debrariffe.com)\n- Michael Davis (michaeldaviswater
 colors.com)\n- Julie Jackson (instagram.com/inspiralsjewelry)\nSamples of 
 each artist's work are included (in order) in the image to the right.\n\nT
 he following is a listing of all artists scheduled to appear at this year'
 s event:\nSondi Barton - Mixed Media Painting\nBeverly Bates - Painting\nJ
 anice Bellows - Jewelry\nAnita Bice - Painting\nJoyce Byrd - Drawing\, Mix
 ed Media\, Painting \nPaveen 'Beer' Chunhaswasdikul - Clay\nMaurice	Cook - 
 Painting\nTroy Crisswell - Painting\nDaniel Curry - Drawing\nMichael Davis
  - Painting\nBart Ehmann - Painting\nJoseph Frye - Sculpture\nLourie Given
 s - Clay\nJulie Jackson - Jewelry \nRobin Johnston - Jewelry\nBryan & Laur
 a Jordan - Clay\nRonald Lewis - Painting\nKarin Mack - Sculpture\nButch Og
 lesby - Photography\nChaille Raines - Painting\nLori Rhodes - Jewelry\nDeb
 ra Riffe - Linoleum Block Relief Prints	\nEllen Rodgers - Jewelry\nJoAnna S
 anders - Jewelry\nKandis Scudder - Jewelry\nSteve & Sally Smith - Glass\nC
 arl Smith - Woodworking\nBen Smith - Woodworking\nKennen Spivey - Sculptur
 e\nGyl Turner - Painting\nSherri Van Pelt - Glass\nSandra Walters - Mixed 
 Media Painting\nAllison Dailey & Jamie Carnathan - Photography\nDavid Byla
 nd - Glass and Leather\nMichael Mixon - Photography\nJenny Patterson - Jew
 elry\nCraig Roderick & Sara Beck - Photography\nEdina Shrestha - Jewelry\n
 Shannon Hopkins - Painting\nJoel Lockridge - Bourbon Pens\n
X-WR-RELCALID:cc3f8d0e59ea91e409086ec35b3bcec2
X-WR-TIMEZONE:America/Chicago
BEGIN:VTIMEZONE
TZID:America/Chicago
BEGIN:STANDARD
TZNAME:CST
DTSTART:20141102T020000
TZOFFSETFROM:-0500
TZOFFSETTO:-0600
RDATE:20151101T020000
RDATE:20161106T020000
END:STANDARD
BEGIN:DAYLIGHT
TZNAME:CDT
DTSTART:20150308T020000
TZOFFSETFROM:-0600
TZOFFSETTO:-0500
RDATE:20160313T020000
END:DAYLIGHT
END:VTIMEZONE
BEGIN:VEVENT
UID:ab40845d-3fc6-410b-9498-bf5e98623d00
DTSTAMP:20260423T142648Z
DESCRIPTION:Saturday\, June 13th 9 a.m. to 5 p.m. \nand Sunday\, June 14th 
 10 a.m. to 4 p.m.\n\nStroll through the Gardens and see the works of some 
 of the best artists in the country\, and\, of course\, shop! A multitude o
 f artisans will compete for category and best of show awards in this jurie
 d open-air show that features only Alabama artists. Returning again this y
 ear will be crowd favorite jewelry artist Julie Jackson\, plus many fresh 
 faces in woodworking\, jewelry\, glass\, sculpture\, painting\, watercolor
 \, photography\, drawing\, clay\, printmaking\, and mixed media.\n\nFood w
 ill be available for purchase and an ATM will be onsite in the Aldridge Ho
 use. \n\n<i>Your $5 per person entry fee supports the arts at Aldridge Gar
 dens - visitors younger than 16 get in free. \n\nOff-site parking with shu
 ttles will be available at the Bed Bath & Beyond parking area on Lorna Roa
 d. The shuttles will run from 30 minutes before the show begins until 30 m
 inutes after the show ends on Saturday and Sunday.</i>\n\nHere are just a 
 few of the artists scheduled to be there:\n- Troy Crisswell (troycrisswell
 .com)\n- Debra Riffe (debrariffe.com)\n- Michael Davis (michaeldaviswaterc
 olors.com)\n- Julie Jackson (instagram.com/inspiralsjewelry)\nSamples of e
 ach artist's work are included (in order) in the image to the right.\n\nTh
 e following is a listing of all artists scheduled to appear at this year's
  event:\nSondi Barton - Mixed Media Painting\nBeverly Bates - Painting\nJa
 nice Bellows - Jewelry\nAnita Bice - Painting\nJoyce Byrd - Drawing\, Mixe
 d Media\, Painting \nPaveen 'Beer' Chunhaswasdikul - Clay\nMaurice	Cook - P
 ainting\nTroy Crisswell - Painting\nDaniel Curry - Drawing\nMichael Davis 
 - Painting\nBart Ehmann - Painting\nJoseph Frye - Sculpture\nLourie Givens
  - Clay\nJulie Jackson - Jewelry \nRobin Johnston - Jewelry\nBryan & Laura
  Jordan - Clay\nRonald Lewis - Painting\nKarin Mack - Sculpture\nButch Ogl
 esby - Photography\nChaille Raines - Painting\nLori Rhodes - Jewelry\nDebr
 a Riffe - Linoleum Block Relief Prints	\nEllen Rodgers - Jewelry\nJoAnna Sa
 nders - Jewelry\nKandis Scudder - Jewelry\nSteve & Sally Smith - Glass\nCa
 rl Smith - Woodworking\nBen Smith - Woodworking\nKennen Spivey - Sculpture
 \nGyl Turner - Painting\nSherri Van Pelt - Glass\nSandra Walters - Mixed M
 edia Painting\nAllison Dailey & Jamie Carnathan - Photography\nDavid Bylan
 d - Glass and Leather\nMichael Mixon - Photography\nJenny Patterson - Jewe
 lry\nCraig Roderick & Sara Beck - Photography\nEdina Shrestha - Jewelry\nS
 hannon Hopkins - Painting\nJoel Lockridge - Bourbon Pens\n
DTSTART;TZID=America/Chicago:20150613T000000
DTEND;TZID=America/Chicago:20150614T015900
LOCATION:
SUMMARY:Art in the Gardens
END:VEVENT
END:VCALENDAR
