BEGIN:VCALENDAR
VERSION:2.0
PRODID:-//aldridgegardens.com//NONSGML kigkonsult.se iCalcreator 2.30.10//
CALSCALE:GREGORIAN
METHOD:PUBLISH
UID:1aab554b-f642-4b46-84e3-9ada47ca14f6
X-WR-CALDESC:June 15 - 19\nEntering Grades 2 – 4\n\nIt’s time for summer!  
 Girls\, are you ready for some fun?  Bring your doll to camp at Aldridge G
 ardens!  We’ll explore the magic of the Gardens\, make all kinds of access
 ories and crafts for you and your dolls\, and even have a tea party!  Join
  us as we make new friends and great memories!\n\nInstructor:  Stephanie H
 ulsey\,  B.A. Early Childhood\, M.A. Elementary Education\n
X-WR-RELCALID:0d2751e0ef85d2e58b5d0d5255de84a2
X-WR-TIMEZONE:America/Chicago
BEGIN:VTIMEZONE
TZID:America/Chicago
BEGIN:STANDARD
TZNAME:CST
DTSTART:20141102T020000
TZOFFSETFROM:-0500
TZOFFSETTO:-0600
RDATE:20151101T020000
RDATE:20161106T020000
END:STANDARD
BEGIN:DAYLIGHT
TZNAME:CDT
DTSTART:20150308T020000
TZOFFSETFROM:-0600
TZOFFSETTO:-0500
RDATE:20160313T020000
END:DAYLIGHT
END:VTIMEZONE
BEGIN:VEVENT
UID:966710d1-7815-4ed8-9621-c8ec5f7b811a
DTSTAMP:20260423T144444Z
DESCRIPTION:June 15 - 19\nEntering Grades 2 – 4\n\nIt’s time for summer!  G
 irls\, are you ready for some fun?  Bring your doll to camp at Aldridge Ga
 rdens!  We’ll explore the magic of the Gardens\, make all kinds of accesso
 ries and crafts for you and your dolls\, and even have a tea party!  Join 
 us as we make new friends and great memories!\n\nInstructor:  Stephanie Hu
 lsey\,  B.A. Early Childhood\, M.A. Elementary Education\n
DTSTART;TZID=America/Chicago:20150615T090000
DTEND;TZID=America/Chicago:20150615T120000
LOCATION:
SUMMARY:Summer Camp: American Girls Grades 2-4 - SOLD OUT
END:VEVENT
END:VCALENDAR
