BEGIN:VCALENDAR
VERSION:2.0
PRODID:-//aldridgegardens.com//NONSGML kigkonsult.se iCalcreator 2.30.10//
CALSCALE:GREGORIAN
METHOD:PUBLISH
UID:be67de14-5b9a-44d3-ac63-0e7b88b0af32
X-WR-CALDESC:June 15 - 19\nEntering Grades K-2\n\nIt’s time for summer!  Gi
 rls\, are you ready for some fun?  Bring your doll to camp at Aldridge Gar
 dens!  We’ll explore the magic of the Gardens\, make all kinds of accessor
 ies and crafts for you and your dolls\, and even have a tea party!  Join u
 s as we make new friends and great memories!\n\nInstructor:  Julia Aho\, M
 .A. Early Childhood and Elementary Education\n
X-WR-RELCALID:d4ce1716c5c3aa6e18438044963b4b43
X-WR-TIMEZONE:America/Chicago
BEGIN:VTIMEZONE
TZID:America/Chicago
BEGIN:STANDARD
TZNAME:CST
DTSTART:20141102T020000
TZOFFSETFROM:-0500
TZOFFSETTO:-0600
RDATE:20151101T020000
RDATE:20161106T020000
END:STANDARD
BEGIN:DAYLIGHT
TZNAME:CDT
DTSTART:20150308T020000
TZOFFSETFROM:-0600
TZOFFSETTO:-0500
RDATE:20160313T020000
END:DAYLIGHT
END:VTIMEZONE
BEGIN:VEVENT
UID:b47d2a51-71ce-44ab-955a-0455fb5d1d1d
DTSTAMP:20260423T144439Z
DESCRIPTION:June 15 - 19\nEntering Grades K-2\n\nIt’s time for summer!  Gir
 ls\, are you ready for some fun?  Bring your doll to camp at Aldridge Gard
 ens!  We’ll explore the magic of the Gardens\, make all kinds of accessori
 es and crafts for you and your dolls\, and even have a tea party!  Join us
  as we make new friends and great memories!\n\nInstructor:  Julia Aho\, M.
 A. Early Childhood and Elementary Education\n
DTSTART;TZID=America/Chicago:20150615T090000
DTEND;TZID=America/Chicago:20150615T120000
LOCATION:
SUMMARY:Summer Camp: American Girls Grades K-2 - SOLD OUT
END:VEVENT
END:VCALENDAR
