BEGIN:VCALENDAR
VERSION:2.0
PRODID:-//aldridgegardens.com//NONSGML kigkonsult.se iCalcreator 2.30.10//
CALSCALE:GREGORIAN
METHOD:PUBLISH
UID:a1df3de9-44de-45de-9237-7ebae8a12cda
X-WR-CALDESC:June 15 - 19\nEntering Grades K-2\n\nCelebrate your imaginatio
 n.  Explore and discover the cool secret places\, plants\, and animals wit
 hin the Gardens.  We will draw\, sculpt\, paint\, plant\, play fun games\,
  and go on exciting adventures to seek treasures and wonders in Aldridge G
 ardens.\n\nInstructor:  Kristi Mathis\, B.A. Early Childhood\, M.A. Litera
 cy\n
X-WR-RELCALID:3e339cb273fb47508bfc21cf003dda73
X-WR-TIMEZONE:America/Chicago
BEGIN:VTIMEZONE
TZID:America/Chicago
BEGIN:STANDARD
TZNAME:CST
DTSTART:20141102T020000
TZOFFSETFROM:-0500
TZOFFSETTO:-0600
RDATE:20151101T020000
RDATE:20161106T020000
END:STANDARD
BEGIN:DAYLIGHT
TZNAME:CDT
DTSTART:20150308T020000
TZOFFSETFROM:-0600
TZOFFSETTO:-0500
RDATE:20160313T020000
END:DAYLIGHT
END:VTIMEZONE
BEGIN:VEVENT
UID:6245d7b2-2f8e-4e39-b4c9-d491b9c4292c
DTSTAMP:20260423T144614Z
DESCRIPTION:June 15 - 19\nEntering Grades K-2\n\nCelebrate your imagination
 .  Explore and discover the cool secret places\, plants\, and animals with
 in the Gardens.  We will draw\, sculpt\, paint\, plant\, play fun games\, 
 and go on exciting adventures to seek treasures and wonders in Aldridge Ga
 rdens.\n\nInstructor:  Kristi Mathis\, B.A. Early Childhood\, M.A. Literac
 y\n
DTSTART;TZID=America/Chicago:20150615T090000
DTEND;TZID=America/Chicago:20150615T120000
LOCATION:
SUMMARY:Summer Camp: Find the Hidden Treasures of Aldridge Gardens Grades K
 -2 - SOLD OUT
END:VEVENT
END:VCALENDAR
