BEGIN:VCALENDAR
VERSION:2.0
PRODID:-//aldridgegardens.com//NONSGML kigkonsult.se iCalcreator 2.30.10//
CALSCALE:GREGORIAN
METHOD:PUBLISH
UID:987da146-c4fe-4871-a98b-565c5ffc0316
X-WR-CALDESC:<b>Summer Camps for the week of June 15-19</b>\n\n\nAmerican G
 irls in Aldridge Gardens Entering Grades 2 – 4\nAmerican Girls in Aldridge
  Gardens Entering Grades K – 2\nFind the Hidden Treasures of Aldridge Gard
 ens Entering  Grades K – 2\n\n
X-WR-RELCALID:46a311f024dc20ef8f10fb7f6bcd0d4d
X-WR-TIMEZONE:America/Chicago
BEGIN:VTIMEZONE
TZID:America/Chicago
BEGIN:STANDARD
TZNAME:CST
DTSTART:20141102T020000
TZOFFSETFROM:-0500
TZOFFSETTO:-0600
RDATE:20151101T020000
RDATE:20161106T020000
END:STANDARD
BEGIN:DAYLIGHT
TZNAME:CDT
DTSTART:20150308T020000
TZOFFSETFROM:-0600
TZOFFSETTO:-0500
RDATE:20160313T020000
END:DAYLIGHT
END:VTIMEZONE
BEGIN:VEVENT
UID:2c2e7e64-e04c-40dc-8251-cbbdf346d188
DTSTAMP:20260423T144126Z
DESCRIPTION:<b>Summer Camps for the week of June 15-19</b>\n\n\nAmerican Gi
 rls in Aldridge Gardens Entering Grades 2 – 4\nAmerican Girls in Aldridge 
 Gardens Entering Grades K – 2\nFind the Hidden Treasures of Aldridge Garde
 ns Entering  Grades K – 2\n\n
DTSTART;TZID=America/Chicago:20150619T090000
DTEND;TZID=America/Chicago:20150619T120000
LOCATION:
SUMMARY:Summer Camps
END:VEVENT
END:VCALENDAR
