BEGIN:VCALENDAR
VERSION:2.0
PRODID:-//aldridgegardens.com//NONSGML kigkonsult.se iCalcreator 2.30.10//
CALSCALE:GREGORIAN
METHOD:PUBLISH
UID:68ee99d5-4616-4314-aa73-3453f1eca5d7
X-WR-CALDESC:Enjoy the fresh air and experience the sights and sounds of bi
 rds in the Gardens with guides Dr. Richard and Patricia Ryel. Bring binocu
 lars and catch glimpses of the beautiful birds calling the Gardens home th
 is summer. Last year we saw more than 60 species of birds on our Saturday 
 morning walks - and we're hoping for even more in the 2015 season!\n\nThis
  event is free to members\, but is limited to 15 participants. Please pre-
 register to let us know you'll be joining us.
X-WR-RELCALID:24319fac674644a7cbf1a801699cb8ea
X-WR-TIMEZONE:America/Chicago
BEGIN:VTIMEZONE
TZID:America/Chicago
BEGIN:STANDARD
TZNAME:CST
DTSTART:20141102T020000
TZOFFSETFROM:-0500
TZOFFSETTO:-0600
RDATE:20151101T020000
RDATE:20161106T020000
END:STANDARD
BEGIN:DAYLIGHT
TZNAME:CDT
DTSTART:20150308T020000
TZOFFSETFROM:-0600
TZOFFSETTO:-0500
RDATE:20160313T020000
END:DAYLIGHT
END:VTIMEZONE
BEGIN:VEVENT
UID:2e4d9b40-d49b-4566-a26b-d3f65b377fee
DTSTAMP:20260423T143917Z
DESCRIPTION:Enjoy the fresh air and experience the sights and sounds of bir
 ds in the Gardens with guides Dr. Richard and Patricia Ryel. Bring binocul
 ars and catch glimpses of the beautiful birds calling the Gardens home thi
 s summer. Last year we saw more than 60 species of birds on our Saturday m
 orning walks - and we're hoping for even more in the 2015 season!\n\nThis 
 event is free to members\, but is limited to 15 participants. Please pre-r
 egister to let us know you'll be joining us.
DTSTART;TZID=America/Chicago:20150620T080000
DTEND;TZID=America/Chicago:20150620T100000
LOCATION:
SUMMARY:Members Only Guided Bird Walk
END:VEVENT
END:VCALENDAR
