BEGIN:VCALENDAR
VERSION:2.0
PRODID:-//aldridgegardens.com//NONSGML kigkonsult.se iCalcreator 2.30.10//
CALSCALE:GREGORIAN
METHOD:PUBLISH
UID:2e5ea3ce-9fa1-46bb-bc56-e531881762e7
X-WR-CALDESC:June 22 - 26\nEntering Grades K-2\n\nIt’s time for summer!  Gi
 rls\, are you ready for some fun?  Bring your doll to camp at Aldridge Gar
 dens!  We’ll explore the magic of the Gardens\, make all kinds of accessor
 ies and crafts for you and your dolls\, and even have a tea party!  Join u
 s as we make new friends and great memories!\n\nInstructor: Stephanie Huls
 ey\,  B.A. Early Childhood\, M.A. Elementary Education\n
X-WR-RELCALID:dcd3d42de250c863bca76cfc2bd4535d
X-WR-TIMEZONE:America/Chicago
BEGIN:VTIMEZONE
TZID:America/Chicago
BEGIN:STANDARD
TZNAME:CST
DTSTART:20141102T020000
TZOFFSETFROM:-0500
TZOFFSETTO:-0600
RDATE:20151101T020000
RDATE:20161106T020000
END:STANDARD
BEGIN:DAYLIGHT
TZNAME:CDT
DTSTART:20150308T020000
TZOFFSETFROM:-0600
TZOFFSETTO:-0500
RDATE:20160313T020000
END:DAYLIGHT
END:VTIMEZONE
BEGIN:VEVENT
UID:55ade0af-fd5b-4bd0-845c-d1a962ed4319
DTSTAMP:20260423T144552Z
DESCRIPTION:June 22 - 26\nEntering Grades K-2\n\nIt’s time for summer!  Gir
 ls\, are you ready for some fun?  Bring your doll to camp at Aldridge Gard
 ens!  We’ll explore the magic of the Gardens\, make all kinds of accessori
 es and crafts for you and your dolls\, and even have a tea party!  Join us
  as we make new friends and great memories!\n\nInstructor: Stephanie Hulse
 y\,  B.A. Early Childhood\, M.A. Elementary Education\n
DTSTART;TZID=America/Chicago:20150622T090000
DTEND;TZID=America/Chicago:20150622T120000
LOCATION:
SUMMARY:Summer Camp: American Girls Grades K-2 - SOLD OUT
END:VEVENT
END:VCALENDAR
