BEGIN:VCALENDAR
VERSION:2.0
PRODID:-//aldridgegardens.com//NONSGML kigkonsult.se iCalcreator 2.30.10//
CALSCALE:GREGORIAN
METHOD:PUBLISH
UID:561459fd-cd9c-443b-a9c2-d1e6720a1403
X-WR-CALDESC:June 22 - 26\nEntering Grades 2-4\n\nCalling all kids who like
  building and experimenting!  Join us for a fun week of chemistry and cons
 truction as we learn about safe chemical reactions\, states of matter\, an
 d pH balance.  We will build amazing structures from all kinds of material
 s including tubes\, wires\, pipes\, cans\, sticks\, magna tiles and more. 
  The sky’s the limit!\n\nInstructor: Reauchean Barnes\, B.S. Early Childho
 od and Elementary Education\n
X-WR-RELCALID:ad5c27daa69bad308efd3a1437678acc
X-WR-TIMEZONE:America/Chicago
BEGIN:VTIMEZONE
TZID:America/Chicago
BEGIN:STANDARD
TZNAME:CST
DTSTART:20141102T020000
TZOFFSETFROM:-0500
TZOFFSETTO:-0600
RDATE:20151101T020000
RDATE:20161106T020000
END:STANDARD
BEGIN:DAYLIGHT
TZNAME:CDT
DTSTART:20150308T020000
TZOFFSETFROM:-0600
TZOFFSETTO:-0500
RDATE:20160313T020000
END:DAYLIGHT
END:VTIMEZONE
BEGIN:VEVENT
UID:665e50fd-4b4f-418a-8ab1-3d0d9ea379b8
DTSTAMP:20260423T144229Z
DESCRIPTION:June 22 - 26\nEntering Grades 2-4\n\nCalling all kids who like 
 building and experimenting!  Join us for a fun week of chemistry and const
 ruction as we learn about safe chemical reactions\, states of matter\, and
  pH balance.  We will build amazing structures from all kinds of materials
  including tubes\, wires\, pipes\, cans\, sticks\, magna tiles and more.  
 The sky’s the limit!\n\nInstructor: Reauchean Barnes\, B.S. Early Childhoo
 d and Elementary Education\n
DTSTART;TZID=America/Chicago:20150622T090000
DTEND;TZID=America/Chicago:20150622T120000
LOCATION:
SUMMARY:Summer Camp: Chemistry and Construction Kids Grades 2-4
END:VEVENT
END:VCALENDAR
