BEGIN:VCALENDAR
VERSION:2.0
PRODID:-//aldridgegardens.com//NONSGML kigkonsult.se iCalcreator 2.30.10//
CALSCALE:GREGORIAN
METHOD:PUBLISH
UID:f93485c8-a436-4052-b713-fbe54d686001
X-WR-CALDESC:June 22 - 26\nEntering Grades 2-4\n\nCelebrate your imaginatio
 n.  Explore and discover the cool secret places\, plants\, and animals wit
 hin the Gardens.  We will draw\, sculpt\, paint\, plant\, play fun games\,
  and go on exciting adventures to seek treasures and wonders in Aldridge G
 ardens.\n\nInstructor:  Kristi Mathis\, B.A. Early Childhood\, M.A. Litera
 cy\n
X-WR-RELCALID:82d463c9cdcd1de81a8c036d269e8d65
X-WR-TIMEZONE:America/Chicago
BEGIN:VTIMEZONE
TZID:America/Chicago
BEGIN:STANDARD
TZNAME:CST
DTSTART:20141102T020000
TZOFFSETFROM:-0500
TZOFFSETTO:-0600
RDATE:20151101T020000
RDATE:20161106T020000
END:STANDARD
BEGIN:DAYLIGHT
TZNAME:CDT
DTSTART:20150308T020000
TZOFFSETFROM:-0600
TZOFFSETTO:-0500
RDATE:20160313T020000
END:DAYLIGHT
END:VTIMEZONE
BEGIN:VEVENT
UID:cd825a9d-dbb8-4205-91a5-264650fb91b5
DTSTAMP:20260423T144612Z
DESCRIPTION:June 22 - 26\nEntering Grades 2-4\n\nCelebrate your imagination
 .  Explore and discover the cool secret places\, plants\, and animals with
 in the Gardens.  We will draw\, sculpt\, paint\, plant\, play fun games\, 
 and go on exciting adventures to seek treasures and wonders in Aldridge Ga
 rdens.\n\nInstructor:  Kristi Mathis\, B.A. Early Childhood\, M.A. Literac
 y\n
DTSTART;TZID=America/Chicago:20150622T090000
DTEND;TZID=America/Chicago:20150622T120000
LOCATION:
SUMMARY:Summer Camp: Find the Hidden Treasures of Aldridge Gardens Grades 2
 -4
END:VEVENT
END:VCALENDAR
