BEGIN:VCALENDAR
VERSION:2.0
PRODID:-//aldridgegardens.com//NONSGML kigkonsult.se iCalcreator 2.30.10//
CALSCALE:GREGORIAN
METHOD:PUBLISH
UID:b3d9db52-50ae-484a-849a-c76bb27be6d8
X-WR-CALDESC:<b>Summer Camps for the week of June 22-26</b>\n\nAmerican Gir
 ls in Aldridge Gardens Entering Grades K – 2\nFind the Hidden Treasures of
  Aldridge Gardens Entering  Grades 2 - 4\nChemistry and Construction Kids 
 Entering  Grades 2 – 4\n
X-WR-RELCALID:044a78dd2fbda439eaec07262e1b623f
X-WR-TIMEZONE:America/Chicago
BEGIN:VTIMEZONE
TZID:America/Chicago
BEGIN:STANDARD
TZNAME:CST
DTSTART:20141102T020000
TZOFFSETFROM:-0500
TZOFFSETTO:-0600
RDATE:20151101T020000
RDATE:20161106T020000
END:STANDARD
BEGIN:DAYLIGHT
TZNAME:CDT
DTSTART:20150308T020000
TZOFFSETFROM:-0600
TZOFFSETTO:-0500
RDATE:20160313T020000
END:DAYLIGHT
END:VTIMEZONE
BEGIN:VEVENT
UID:59e49210-b52c-47c4-b7a4-6a940888f0a9
DTSTAMP:20260423T143048Z
DESCRIPTION:<b>Summer Camps for the week of June 22-26</b>\n\nAmerican Girl
 s in Aldridge Gardens Entering Grades K – 2\nFind the Hidden Treasures of 
 Aldridge Gardens Entering  Grades 2 - 4\nChemistry and Construction Kids E
 ntering  Grades 2 – 4\n
DTSTART;TZID=America/Chicago:20150625T090000
DTEND;TZID=America/Chicago:20150625T160000
LOCATION:
SUMMARY:Summer Camps
END:VEVENT
END:VCALENDAR
