BEGIN:VCALENDAR
VERSION:2.0
PRODID:-//aldridgegardens.com//NONSGML kigkonsult.se iCalcreator 2.30.10//
CALSCALE:GREGORIAN
METHOD:PUBLISH
UID:749a1c28-d422-438d-8f42-35ab7e2e11c4
X-WR-CALDESC:The Hoover Chamber of Commerce will be holding their monthly B
 usiness After Hours event at the Gardens on June 25 at 5:30 pm. These gath
 erings are wonderful opportunities to become acquainted with other Hoover 
 business community members. This event is intended for Hoover Chamber of C
 ommerce members and their guests.\n
X-WR-RELCALID:fb12f21062d05a480c2e56158af0ad22
X-WR-TIMEZONE:America/Chicago
BEGIN:VTIMEZONE
TZID:America/Chicago
BEGIN:STANDARD
TZNAME:CST
DTSTART:20141102T020000
TZOFFSETFROM:-0500
TZOFFSETTO:-0600
RDATE:20151101T020000
RDATE:20161106T020000
END:STANDARD
BEGIN:DAYLIGHT
TZNAME:CDT
DTSTART:20150308T020000
TZOFFSETFROM:-0600
TZOFFSETTO:-0500
RDATE:20160313T020000
END:DAYLIGHT
END:VTIMEZONE
BEGIN:VEVENT
UID:66b784d2-0b50-46d3-befa-98a906199823
DTSTAMP:20260423T144601Z
DESCRIPTION:The Hoover Chamber of Commerce will be holding their monthly Bu
 siness After Hours event at the Gardens on June 25 at 5:30 pm. These gathe
 rings are wonderful opportunities to become acquainted with other Hoover b
 usiness community members. This event is intended for Hoover Chamber of Co
 mmerce members and their guests.\n
DTSTART;TZID=America/Chicago:20150625T173000
DTEND;TZID=America/Chicago:20150625T190000
LOCATION:Aldridge Gardens
SUMMARY:Hoover Chamber of Commerce Business After Hours Event
END:VEVENT
END:VCALENDAR
