BEGIN:VCALENDAR
VERSION:2.0
PRODID:-//aldridgegardens.com//NONSGML kigkonsult.se iCalcreator 2.30.10//
CALSCALE:GREGORIAN
METHOD:PUBLISH
UID:8db743c2-a928-489e-87db-7d6ee308cbfc
X-WR-CALDESC:Propagator level members will enjoy their monthly wine recepti
 on while mixing and mingling with our special guest Gary Burley. Gary is a
  former National Football League Player and the current CEO and Founder of
  Pro Start Academy. \n\nPro Start Academy is an athletic and academic prog
 ram founded and managed by former NFL players\, professionals\, and other 
 experts. Its primary goal is to develop and enhance the athletic ability o
 f its students\, while building upon their academic foundation\, and teach
 ing them valuable life skills. This is done through a focus on mentoring\,
  leadership\, and civic engagement.\n\nGary's story is one of perseverance
  and hard work. He was not recruited out of high school to play college fo
 otball\, but he worked hard and became a Junior College All-American -- wh
 ich eventually earned him a full scholarship at the University of Pittsbur
 gh. While at “Pitt” he earned top honors as a Collegiate All-American and 
 Walter Camp\, Kodak All American. He also made numerous bowl and all-star 
 game appearances. \n\nIn 1975\, he was selected in the third round of the 
 NFL draft. This resulted in a ten-year career as a defensive end for both 
 the Cincinnati Bengals and the Atlanta Falcons -- the highlight of which i
 ncluded playing in Super Bowl XVI. \n\nUpon retirement from the NFL he wor
 ked in the sports\, entertainment\, and publication businesses. During thi
 s time he held positions as advertising manager for the Atlanta Hawks and 
 Atlanta Braves sports publications\, as well as R&B music and sports marke
 ting for legendary entertainment attorney\, Joel Katz. \n\nIn addition\, G
 ary co-founded the Leon Bender Epilepsy Research Foundation with Grammy wi
 nner Manuel Seal. The organization partnered with Emory Hospital to fund a
 n Epilepsy Research initiative that has shown promising results.\n\nSounds
  interesting\, doesn't it? Don't miss your chance to hear more about Gary'
 s story\, direct from the source. Make plans to join us on July 9. \n\n\n
X-WR-RELCALID:d91dacd761038acdebdd12579a64a4e9
X-WR-TIMEZONE:America/Chicago
BEGIN:VTIMEZONE
TZID:America/Chicago
BEGIN:STANDARD
TZNAME:CST
DTSTART:20141102T020000
TZOFFSETFROM:-0500
TZOFFSETTO:-0600
RDATE:20151101T020000
RDATE:20161106T020000
END:STANDARD
BEGIN:DAYLIGHT
TZNAME:CDT
DTSTART:20150308T020000
TZOFFSETFROM:-0600
TZOFFSETTO:-0500
RDATE:20160313T020000
END:DAYLIGHT
END:VTIMEZONE
BEGIN:VEVENT
UID:801a7c92-16e0-4b72-89a2-2a9008ac345c
DTSTAMP:20260423T125305Z
DESCRIPTION:Propagator level members will enjoy their monthly wine receptio
 n while mixing and mingling with our special guest Gary Burley. Gary is a 
 former National Football League Player and the current CEO and Founder of 
 Pro Start Academy. \n\nPro Start Academy is an athletic and academic progr
 am founded and managed by former NFL players\, professionals\, and other e
 xperts. Its primary goal is to develop and enhance the athletic ability of
  its students\, while building upon their academic foundation\, and teachi
 ng them valuable life skills. This is done through a focus on mentoring\, 
 leadership\, and civic engagement.\n\nGary's story is one of perseverance 
 and hard work. He was not recruited out of high school to play college foo
 tball\, but he worked hard and became a Junior College All-American -- whi
 ch eventually earned him a full scholarship at the University of Pittsburg
 h. While at “Pitt” he earned top honors as a Collegiate All-American and W
 alter Camp\, Kodak All American. He also made numerous bowl and all-star g
 ame appearances. \n\nIn 1975\, he was selected in the third round of the N
 FL draft. This resulted in a ten-year career as a defensive end for both t
 he Cincinnati Bengals and the Atlanta Falcons -- the highlight of which in
 cluded playing in Super Bowl XVI. \n\nUpon retirement from the NFL he work
 ed in the sports\, entertainment\, and publication businesses. During this
  time he held positions as advertising manager for the Atlanta Hawks and A
 tlanta Braves sports publications\, as well as R&B music and sports market
 ing for legendary entertainment attorney\, Joel Katz. \n\nIn addition\, Ga
 ry co-founded the Leon Bender Epilepsy Research Foundation with Grammy win
 ner Manuel Seal. The organization partnered with Emory Hospital to fund an
  Epilepsy Research initiative that has shown promising results.\n\nSounds 
 interesting\, doesn't it? Don't miss your chance to hear more about Gary's
  story\, direct from the source. Make plans to join us on July 9. \n\n\n
DTSTART;TZID=America/Chicago:20150709T170000
DTEND;TZID=America/Chicago:20150709T190000
LOCATION:Eddie and Kay Aldridge Arts & Historical Collections Museum
SUMMARY:Propagator Wine Reception: Meet Gary Burley
END:VEVENT
END:VCALENDAR
