BEGIN:VCALENDAR
VERSION:2.0
PRODID:-//aldridgegardens.com//NONSGML kigkonsult.se iCalcreator 2.30.10//
CALSCALE:GREGORIAN
METHOD:PUBLISH
UID:235d733e-ba60-4d1c-916d-8548f55d6730
X-WR-CALDESC:Modeled after the old stone watering troughs of England\, thes
 e great containers can stand the freeze/thaw cycle of most climates.  Join
  us for a hands-on workshop to make your own hypertufa out of cement\, per
 lite and peat moss.  We will also discuss planting options.\nMake your hyp
 ertufa on July 11\, then let it cure for a week\, and pick up the followin
 g weekend. \n\nInstructor:  Harold Deason\, Jefferson County Master Garden
 er\nClass limited to 12 participants. Members:  $46/Non-members $55  All m
 aterials are included. \n\n<i>Image courtesy: creativebreak.ca</i>
X-WR-RELCALID:4f268caab84454b628f8b20ebda956fd
X-WR-TIMEZONE:America/Chicago
BEGIN:VTIMEZONE
TZID:America/Chicago
BEGIN:STANDARD
TZNAME:CST
DTSTART:20141102T020000
TZOFFSETFROM:-0500
TZOFFSETTO:-0600
RDATE:20151101T020000
RDATE:20161106T020000
END:STANDARD
BEGIN:DAYLIGHT
TZNAME:CDT
DTSTART:20150308T020000
TZOFFSETFROM:-0600
TZOFFSETTO:-0500
RDATE:20160313T020000
END:DAYLIGHT
END:VTIMEZONE
BEGIN:VEVENT
UID:c274957d-48c9-4288-8b7e-40572397cafb
DTSTAMP:20260423T125203Z
DESCRIPTION:Modeled after the old stone watering troughs of England\, these
  great containers can stand the freeze/thaw cycle of most climates.  Join 
 us for a hands-on workshop to make your own hypertufa out of cement\, perl
 ite and peat moss.  We will also discuss planting options.\nMake your hype
 rtufa on July 11\, then let it cure for a week\, and pick up the following
  weekend. \n\nInstructor:  Harold Deason\, Jefferson County Master Gardene
 r\nClass limited to 12 participants. Members:  $46/Non-members $55  All ma
 terials are included. \n\n<i>Image courtesy: creativebreak.ca</i>
DTSTART;TZID=America/Chicago:20150711T083000
DTEND;TZID=America/Chicago:20150711T120000
LOCATION:
SUMMARY:Hypertufa Workshop
END:VEVENT
END:VCALENDAR
