BEGIN:VCALENDAR
VERSION:2.0
PRODID:-//aldridgegardens.com//NONSGML kigkonsult.se iCalcreator 2.30.10//
CALSCALE:GREGORIAN
METHOD:PUBLISH
UID:624c3615-f833-4ad7-8b9c-99d0b63323cf
X-WR-CALDESC:Members can now see Aldridge Gardens in a whole new light!\n\n
 Experience the Gardens like never before by exploring the grounds on a gui
 ded walking tour. Starting in July\, docents will lead an hour-long walk o
 ne Saturday each month. The tour on July 11th will give members a great lo
 ok at the annual bloom of our oakleaf hydrangeas. \n\nJoin other members f
 or coffee and tea at 8:30. In addition\, muffins and fruit will be provide
 d by <i>The Egg & I</i>. You'll have the opportunity to find out what's ha
 ppening at the Gardens and provide feedback or suggestions. The tour will 
 begin at 9:00. Space is limited to 20 members and RSVP is required. \n\nAd
 ditional Members Only Guided Gardens Tours will be held on August 8\, Sept
 ember 12\, and October 10.
X-WR-RELCALID:af717913c0737fe5824d8d52f7bdb445
X-WR-TIMEZONE:America/Chicago
BEGIN:VTIMEZONE
TZID:America/Chicago
BEGIN:STANDARD
TZNAME:CST
DTSTART:20141102T020000
TZOFFSETFROM:-0500
TZOFFSETTO:-0600
RDATE:20151101T020000
RDATE:20161106T020000
END:STANDARD
BEGIN:DAYLIGHT
TZNAME:CDT
DTSTART:20150308T020000
TZOFFSETFROM:-0600
TZOFFSETTO:-0500
RDATE:20160313T020000
END:DAYLIGHT
END:VTIMEZONE
BEGIN:VEVENT
UID:0c6def40-384d-44f5-8266-638749e2f7da
DTSTAMP:20260423T125305Z
DESCRIPTION:Members can now see Aldridge Gardens in a whole new light!\n\nE
 xperience the Gardens like never before by exploring the grounds on a guid
 ed walking tour. Starting in July\, docents will lead an hour-long walk on
 e Saturday each month. The tour on July 11th will give members a great loo
 k at the annual bloom of our oakleaf hydrangeas. \n\nJoin other members fo
 r coffee and tea at 8:30. In addition\, muffins and fruit will be provided
  by <i>The Egg & I</i>. You'll have the opportunity to find out what's hap
 pening at the Gardens and provide feedback or suggestions. The tour will b
 egin at 9:00. Space is limited to 20 members and RSVP is required. \n\nAdd
 itional Members Only Guided Gardens Tours will be held on August 8\, Septe
 mber 12\, and October 10.
DTSTART;TZID=America/Chicago:20150711T083000
DTEND;TZID=America/Chicago:20150711T100000
LOCATION:Meet at the patio near Roots Garden and Gift Shop
SUMMARY:Members Only Guided Gardens Tour
END:VEVENT
END:VCALENDAR
