BEGIN:VCALENDAR
VERSION:2.0
PRODID:-//aldridgegardens.com//NONSGML kigkonsult.se iCalcreator 2.30.10//
CALSCALE:GREGORIAN
METHOD:PUBLISH
UID:26b50b4f-f0fa-428a-998a-29550830a906
X-WR-CALDESC:Summertime Saturday mornings were made for this!\n\nYou can't 
 go wrong with fresh air and a little exercise while on a guided tour of th
 e Gardens. Join Dr. Richard and Patricia Ryel for a walk on our grounds to
  catch a glimpse of the beautiful birds that are migrating through the are
 a. This monthly members-only event is free\, but we do ask that you kindly
  RSVP. <b>Don't forget your binoculars!</b>
X-WR-RELCALID:f357fb3d008fe63515ff72ffae9537d5
X-WR-TIMEZONE:America/Chicago
BEGIN:VTIMEZONE
TZID:America/Chicago
BEGIN:STANDARD
TZNAME:CST
DTSTART:20141102T020000
TZOFFSETFROM:-0500
TZOFFSETTO:-0600
RDATE:20151101T020000
RDATE:20161106T020000
END:STANDARD
BEGIN:DAYLIGHT
TZNAME:CDT
DTSTART:20150308T020000
TZOFFSETFROM:-0600
TZOFFSETTO:-0500
RDATE:20160313T020000
END:DAYLIGHT
END:VTIMEZONE
BEGIN:VEVENT
UID:2838fcc9-8d55-4905-b216-867d9eac3368
DTSTAMP:20260423T130406Z
DESCRIPTION:Summertime Saturday mornings were made for this!\n\nYou can't g
 o wrong with fresh air and a little exercise while on a guided tour of the
  Gardens. Join Dr. Richard and Patricia Ryel for a walk on our grounds to 
 catch a glimpse of the beautiful birds that are migrating through the area
 . This monthly members-only event is free\, but we do ask that you kindly 
 RSVP. <b>Don't forget your binoculars!</b>
DTSTART;TZID=America/Chicago:20150718T080000
DTEND;TZID=America/Chicago:20150718T100000
LOCATION:
SUMMARY:Members Only Guided Bird Walk
END:VEVENT
END:VCALENDAR
