BEGIN:VCALENDAR
VERSION:2.0
PRODID:-//aldridgegardens.com//NONSGML kigkonsult.se iCalcreator 2.30.10//
CALSCALE:GREGORIAN
METHOD:PUBLISH
UID:f3828466-e347-4854-96b9-b7c1c885839e
X-WR-CALDESC:We invite you to discover the excitement of European river cru
 ising presented by top rated AmaWaterways.  Join us for an evening of drin
 ks & hors d'oeuvres\, followed by a presentation from Ama's Kathy Brock th
 at will feature our 8 Day/7 Night Dutch and Belgian River Cruise\, schedul
 ed to depart on April 21\, 2016. \n\nCome and hear more about the trip tha
 t will allow you to discover the beauty of the spectacular tulip carpets i
 n Keukenhof Gardens and visit Kinderdijk\, home to the country's greatest 
 concentration of windmills. Experience Amsterdam's distinctive architectur
 e and vibrant nightlife plus an opportunity to explore the medieval cities
  of Antwerp and Ghent while also delving into the cultural traditions of t
 he friendly Dutch and Flemish people.\n
X-WR-RELCALID:e36a63d2fd0fa60fc715cd60b9121b12
X-WR-TIMEZONE:America/Chicago
BEGIN:VTIMEZONE
TZID:America/Chicago
BEGIN:STANDARD
TZNAME:CST
DTSTART:20141102T020000
TZOFFSETFROM:-0500
TZOFFSETTO:-0600
RDATE:20151101T020000
RDATE:20161106T020000
END:STANDARD
BEGIN:DAYLIGHT
TZNAME:CDT
DTSTART:20150308T020000
TZOFFSETFROM:-0600
TZOFFSETTO:-0500
RDATE:20160313T020000
END:DAYLIGHT
END:VTIMEZONE
BEGIN:VEVENT
UID:3a7d09d8-43f2-4542-be36-b558a85c0acf
DTSTAMP:20260423T111833Z
DESCRIPTION:We invite you to discover the excitement of European river crui
 sing presented by top rated AmaWaterways.  Join us for an evening of drink
 s & hors d'oeuvres\, followed by a presentation from Ama's Kathy Brock tha
 t will feature our 8 Day/7 Night Dutch and Belgian River Cruise\, schedule
 d to depart on April 21\, 2016. \n\nCome and hear more about the trip that
  will allow you to discover the beauty of the spectacular tulip carpets in
  Keukenhof Gardens and visit Kinderdijk\, home to the country's greatest c
 oncentration of windmills. Experience Amsterdam's distinctive architecture
  and vibrant nightlife plus an opportunity to explore the medieval cities 
 of Antwerp and Ghent while also delving into the cultural traditions of th
 e friendly Dutch and Flemish people.\n
DTSTART;TZID=America/Chicago:20150805T180000
DTEND;TZID=America/Chicago:20150805T200000
LOCATION:Eddie and Kay Aldridge Arts & Historical Collections Museum
SUMMARY:Travel Club Reception and Presentation on the April 2016 Dutch and 
 Belgian River Cruise
END:VEVENT
END:VCALENDAR
