BEGIN:VCALENDAR
VERSION:2.0
PRODID:-//aldridgegardens.com//NONSGML kigkonsult.se iCalcreator 2.30.10//
CALSCALE:GREGORIAN
METHOD:PUBLISH
UID:7ba63007-4d7d-4c08-bc52-3d13e29828a5
X-WR-CALDESC:Please join us as we welcome Don Estes to Aldridge Gardens. A 
 meet the artist reception will be held on August 13th from 6:00 to 8:00 pm
 . This will kick off the exhibition of his work at the Eddie and Kay Aldri
 dge Arts & Historical Collections Museum. \n\nHere's a little bit of what 
 the artist has to say about his artwork. 'A famous playwright once wrote\,
  'at times\, the soul needs something that reason cannot explain.' That de
 fines art for me. Art has always evoked a feeling that goes beyond explana
 tion for me. Beyond the beautiful colors\, an interesting scene or a rivet
 ing portrait\, art produces a feeling inside me. I fervently hope that I m
 ight cause that feeling in others who take time to view my paintings. If s
 o\, I am a very successful artist. \n\nAn exciting life in broadcasting an
 d the music industry took my time and energy for many years. However\, I s
 till found time to dream about becoming an artist. After ten years as Dire
 ctor of Promotion for Warner Brothers Records in Los Angles and 4 years as
  founder and publisher of a music business trade magazine\, I decided it w
 as time to take the plunge into art. Moving back to my home state of Alaba
 ma I have studied and worked steadily to improve as an artist. I have been
  fortunate to study under Daniel E. Greene at his studio farm in New Salem
 \, New York. Daniel is one of the premier portraitists in the world. He wa
 s a student\, and is a teacher\, at the famous Art Students League in New 
 York City. I have never regretted the decision focus my life on the arts. 
 I love art and hope that you find something that stirs a good feeling when
  looking at any of my paintings.' \n\nJoin us on the 13th to hear more\, d
 irectly from the artist. \n\nEstes' work will be displayed through Septemb
 er.\n
X-WR-RELCALID:6c00d22e864beb488bc2c9804909374c
X-WR-TIMEZONE:America/Chicago
BEGIN:VTIMEZONE
TZID:America/Chicago
BEGIN:STANDARD
TZNAME:CST
DTSTART:20141102T020000
TZOFFSETFROM:-0500
TZOFFSETTO:-0600
RDATE:20151101T020000
RDATE:20161106T020000
END:STANDARD
BEGIN:DAYLIGHT
TZNAME:CDT
DTSTART:20150308T020000
TZOFFSETFROM:-0600
TZOFFSETTO:-0500
RDATE:20160313T020000
END:DAYLIGHT
END:VTIMEZONE
BEGIN:VEVENT
UID:066e82d2-4bd6-4ffa-b94b-7103473e71eb
DTSTAMP:20260423T105606Z
DESCRIPTION:Please join us as we welcome Don Estes to Aldridge Gardens. A m
 eet the artist reception will be held on August 13th from 6:00 to 8:00 pm.
  This will kick off the exhibition of his work at the Eddie and Kay Aldrid
 ge Arts & Historical Collections Museum. \n\nHere's a little bit of what t
 he artist has to say about his artwork. 'A famous playwright once wrote\, 
 'at times\, the soul needs something that reason cannot explain.' That def
 ines art for me. Art has always evoked a feeling that goes beyond explanat
 ion for me. Beyond the beautiful colors\, an interesting scene or a riveti
 ng portrait\, art produces a feeling inside me. I fervently hope that I mi
 ght cause that feeling in others who take time to view my paintings. If so
 \, I am a very successful artist. \n\nAn exciting life in broadcasting and
  the music industry took my time and energy for many years. However\, I st
 ill found time to dream about becoming an artist. After ten years as Direc
 tor of Promotion for Warner Brothers Records in Los Angles and 4 years as 
 founder and publisher of a music business trade magazine\, I decided it wa
 s time to take the plunge into art. Moving back to my home state of Alabam
 a I have studied and worked steadily to improve as an artist. I have been 
 fortunate to study under Daniel E. Greene at his studio farm in New Salem\
 , New York. Daniel is one of the premier portraitists in the world. He was
  a student\, and is a teacher\, at the famous Art Students League in New Y
 ork City. I have never regretted the decision focus my life on the arts. I
  love art and hope that you find something that stirs a good feeling when 
 looking at any of my paintings.' \n\nJoin us on the 13th to hear more\, di
 rectly from the artist. \n\nEstes' work will be displayed through Septembe
 r.\n
DTSTART;TZID=America/Chicago:20150813T180000
DTEND;TZID=America/Chicago:20150813T200000
LOCATION:Eddie and Kay Aldridge Arts & Historical Collections Museum
SUMMARY:Meet the Artist Reception: Don Estes
END:VEVENT
END:VCALENDAR
