BEGIN:VCALENDAR
VERSION:2.0
PRODID:-//aldridgegardens.com//NONSGML kigkonsult.se iCalcreator 2.30.10//
CALSCALE:GREGORIAN
METHOD:PUBLISH
UID:de1c4d56-97c9-4be7-9b41-d928c7cbe20f
X-WR-CALDESC:Propagator level members will enjoy their monthly wine recepti
 on while mixing and mingling with the artist. Please join us as we welcome
  Don Estes to Aldridge Gardens.\n\nHere's a little bit of what the artist 
 has to say about his artwork. 'A famous playwright once wrote\, 'at times\
 , the soul needs something that reason cannot explain.' That defines art f
 or me. Art has always evoked a feeling that goes beyond explanation for me
 . Beyond the beautiful colors\, an interesting scene or a riveting portrai
 t\, art produces a feeling inside me. I fervently hope that I might cause 
 that feeling in others who take time to view my paintings. If so\, I am a 
 very successful artist. \n\nAn exciting life in broadcasting and the music
  industry took my time and energy for many years. However\, I still found 
 time to dream about becoming an artist. After ten years as Director of Pro
 motion for Warner Brothers Records in Los Angles and 4 years as founder an
 d publisher of a music business trade magazine\, I decided it was time to 
 take the plunge into art. Moving back to my home state of Alabama I have s
 tudied and worked steadily to improve as an artist. I have been fortunate 
 to study under Daniel E. Greene at his studio farm in New Salem\, New York
 . Daniel is one of the premier portraitists in the world. He was a student
 \, and is a teacher\, at the famous Art Students League in New York City. 
 I have never regretted the decision focus my life on the arts. I love art 
 and hope that you find something that stirs a good feeling when looking at
  any of my paintings.' \n\nJoin us on the 13th to hear more\, directly fro
 m the artist. \n\nEstes' work will be displayed through September.\n
X-WR-RELCALID:c848e2fe1c6bdc01194b676baa5cb4e7
X-WR-TIMEZONE:America/Chicago
BEGIN:VTIMEZONE
TZID:America/Chicago
BEGIN:STANDARD
TZNAME:CST
DTSTART:20141102T020000
TZOFFSETFROM:-0500
TZOFFSETTO:-0600
RDATE:20151101T020000
RDATE:20161106T020000
END:STANDARD
BEGIN:DAYLIGHT
TZNAME:CDT
DTSTART:20150308T020000
TZOFFSETFROM:-0600
TZOFFSETTO:-0500
RDATE:20160313T020000
END:DAYLIGHT
END:VTIMEZONE
BEGIN:VEVENT
UID:64c5980f-badd-4140-8885-921ca06abc91
DTSTAMP:20260423T105026Z
DESCRIPTION:Propagator level members will enjoy their monthly wine receptio
 n while mixing and mingling with the artist. Please join us as we welcome 
 Don Estes to Aldridge Gardens.\n\nHere's a little bit of what the artist h
 as to say about his artwork. 'A famous playwright once wrote\, 'at times\,
  the soul needs something that reason cannot explain.' That defines art fo
 r me. Art has always evoked a feeling that goes beyond explanation for me.
  Beyond the beautiful colors\, an interesting scene or a riveting portrait
 \, art produces a feeling inside me. I fervently hope that I might cause t
 hat feeling in others who take time to view my paintings. If so\, I am a v
 ery successful artist. \n\nAn exciting life in broadcasting and the music 
 industry took my time and energy for many years. However\, I still found t
 ime to dream about becoming an artist. After ten years as Director of Prom
 otion for Warner Brothers Records in Los Angles and 4 years as founder and
  publisher of a music business trade magazine\, I decided it was time to t
 ake the plunge into art. Moving back to my home state of Alabama I have st
 udied and worked steadily to improve as an artist. I have been fortunate t
 o study under Daniel E. Greene at his studio farm in New Salem\, New York.
  Daniel is one of the premier portraitists in the world. He was a student\
 , and is a teacher\, at the famous Art Students League in New York City. I
  have never regretted the decision focus my life on the arts. I love art a
 nd hope that you find something that stirs a good feeling when looking at 
 any of my paintings.' \n\nJoin us on the 13th to hear more\, directly from
  the artist. \n\nEstes' work will be displayed through September.\n
DTSTART;TZID=America/Chicago:20150813T170000
DTEND;TZID=America/Chicago:20150813T180000
LOCATION:Eddie and Kay Aldridge Arts & Historical Collections Museum
SUMMARY:Propagator Wine Reception: Meet the Artist
END:VEVENT
END:VCALENDAR
