BEGIN:VCALENDAR
VERSION:2.0
PRODID:-//aldridgegardens.com//NONSGML kigkonsult.se iCalcreator 2.30.10//
CALSCALE:GREGORIAN
METHOD:PUBLISH
UID:7f56ef87-5e2f-46f5-9ad4-309ed2156618
X-WR-CALDESC:Summertime Saturday mornings were made for this!\n\nYou can't 
 go wrong with fresh air and a little exercise while on a guided tour of th
 e Gardens. Join Dr. Richard and Patricia Ryel for a walk on our grounds to
  catch a glimpse of the beautiful birds that are migrating through the are
 a. This monthly members-only event is free\, but we do ask that you kindly
  RSVP.
X-WR-RELCALID:e58484bb019aba98c03c77de9ad7275e
X-WR-TIMEZONE:America/Chicago
BEGIN:VTIMEZONE
TZID:America/Chicago
BEGIN:STANDARD
TZNAME:CST
DTSTART:20141102T020000
TZOFFSETFROM:-0500
TZOFFSETTO:-0600
RDATE:20151101T020000
RDATE:20161106T020000
END:STANDARD
BEGIN:DAYLIGHT
TZNAME:CDT
DTSTART:20150308T020000
TZOFFSETFROM:-0600
TZOFFSETTO:-0500
RDATE:20160313T020000
END:DAYLIGHT
END:VTIMEZONE
BEGIN:VEVENT
UID:3052f0fb-749e-4d9f-931e-75f84d3fc7b2
DTSTAMP:20260423T111741Z
DESCRIPTION:Summertime Saturday mornings were made for this!\n\nYou can't g
 o wrong with fresh air and a little exercise while on a guided tour of the
  Gardens. Join Dr. Richard and Patricia Ryel for a walk on our grounds to 
 catch a glimpse of the beautiful birds that are migrating through the area
 . This monthly members-only event is free\, but we do ask that you kindly 
 RSVP.
DTSTART;TZID=America/Chicago:20150815T080000
DTEND;TZID=America/Chicago:20150815T100000
LOCATION:
SUMMARY:Members Only Guided Bird Walk
END:VEVENT
END:VCALENDAR
