BEGIN:VCALENDAR
VERSION:2.0
PRODID:-//aldridgegardens.com//NONSGML kigkonsult.se iCalcreator 2.30.10//
CALSCALE:GREGORIAN
METHOD:PUBLISH
UID:af30d361-9544-4126-8ec5-2c40a0598b67
X-WR-CALDESC:Please join us as we welcome Dolores Hydock to Aldridge Garden
 s. Propagator level members will enjoy their monthly wine reception\, from
  5 to 6 p.m.\, while mixing and mingling with the artist.  Around 6:00 p.m
 .\, Dolores will tell her own story about her life as a storyteller.  \n\n
 Dolores Hydock is an actress and story performer\, whose work has been fea
 tured at a variety of concerts\, festivals\, and special events throughout
  the U.S. Her CDs of original stories have all received Resource Awards fr
 om Storytelling World Magazine.\n\nShe is originally from Reading\, Pennsy
 lvania\, home of the Reading Railroad and Luden's Cough Drops. Her hometow
 n is where she won her first blue ribbon in storytelling in a local contes
 t at the age of five. The real gold letters on the blue ribbon convinced h
 er there was obviously a fortune to be made in the performing arts. She co
 ntinues to hope. \n\nAs a storyteller\, she has been a featured teller at 
 the National Storytelling Festival in Jonesborough\, Tennessee\, and at ot
 her story concerts\, festivals\, and special events throughout the U.S. \n
 \nDolores lives here in Birmingham. In her spare time\, she tends a garden
  that includes a pomegranate bush\, muscadine vines\, blueberry bushes\, a
  20-foot jujuba tree\, and a family of slugs the size of cheap cigars. \n
 \nJoin us on the 10th to hear more\, directly from Dolores herself. \n
X-WR-RELCALID:b5762584a4899f54ec6d92a4d363c709
X-WR-TIMEZONE:America/Chicago
BEGIN:VTIMEZONE
TZID:America/Chicago
BEGIN:STANDARD
TZNAME:CST
DTSTART:20141102T020000
TZOFFSETFROM:-0500
TZOFFSETTO:-0600
RDATE:20151101T020000
RDATE:20161106T020000
END:STANDARD
BEGIN:DAYLIGHT
TZNAME:CDT
DTSTART:20150308T020000
TZOFFSETFROM:-0600
TZOFFSETTO:-0500
RDATE:20160313T020000
END:DAYLIGHT
END:VTIMEZONE
BEGIN:VEVENT
UID:e870c8f6-64e5-4b16-a589-fcaed0a34c1b
DTSTAMP:20260423T090604Z
DESCRIPTION:Please join us as we welcome Dolores Hydock to Aldridge Gardens
 . Propagator level members will enjoy their monthly wine reception\, from 
 5 to 6 p.m.\, while mixing and mingling with the artist.  Around 6:00 p.m.
 \, Dolores will tell her own story about her life as a storyteller.  \n\nD
 olores Hydock is an actress and story performer\, whose work has been feat
 ured at a variety of concerts\, festivals\, and special events throughout 
 the U.S. Her CDs of original stories have all received Resource Awards fro
 m Storytelling World Magazine.\n\nShe is originally from Reading\, Pennsyl
 vania\, home of the Reading Railroad and Luden's Cough Drops. Her hometown
  is where she won her first blue ribbon in storytelling in a local contest
  at the age of five. The real gold letters on the blue ribbon convinced he
 r there was obviously a fortune to be made in the performing arts. She con
 tinues to hope. \n\nAs a storyteller\, she has been a featured teller at t
 he National Storytelling Festival in Jonesborough\, Tennessee\, and at oth
 er story concerts\, festivals\, and special events throughout the U.S. \n
 \nDolores lives here in Birmingham. In her spare time\, she tends a garden
  that includes a pomegranate bush\, muscadine vines\, blueberry bushes\, a
  20-foot jujuba tree\, and a family of slugs the size of cheap cigars. \n
 \nJoin us on the 10th to hear more\, directly from Dolores herself. \n
DTSTART;TZID=America/Chicago:20150910T170000
DTEND;TZID=America/Chicago:20150910T190000
LOCATION:Eddie and Kay Aldridge Arts & Historical Collections Museum
SUMMARY:Propagators Reception: Dolores Hydock
END:VEVENT
END:VCALENDAR
