BEGIN:VCALENDAR
VERSION:2.0
PRODID:-//aldridgegardens.com//NONSGML kigkonsult.se iCalcreator 2.30.10//
CALSCALE:GREGORIAN
METHOD:PUBLISH
UID:ba312e04-9797-477b-850b-1e6ebb140e41
X-WR-CALDESC:Members can now see Aldridge Gardens in a whole new light!\n\n
 Experience the Gardens like never before by exploring the grounds on a gui
 ded walking tour. Docents lead an hour-long walk one Saturday each month. 
 \n\nJoin other members for coffee and tea at 8:30. In addition\, muffins a
 nd fruit will be provided by <i>The Egg & I</i>. You'll have the opportuni
 ty to find out what's happening at the Gardens and provide feedback or sug
 gestions. The tour will begin at 9:00. Space is limited to 20 members and 
 RSVP is required. \n\nAn additional Members Only Guided Gardens Tour will 
 be held on October 10.
X-WR-RELCALID:b1ac33fc8f8c407012856a2915d77d70
X-WR-TIMEZONE:America/Chicago
BEGIN:VTIMEZONE
TZID:America/Chicago
BEGIN:STANDARD
TZNAME:CST
DTSTART:20141102T020000
TZOFFSETFROM:-0500
TZOFFSETTO:-0600
RDATE:20151101T020000
RDATE:20161106T020000
END:STANDARD
BEGIN:DAYLIGHT
TZNAME:CDT
DTSTART:20150308T020000
TZOFFSETFROM:-0600
TZOFFSETTO:-0500
RDATE:20160313T020000
RDATE:20170312T020000
END:DAYLIGHT
END:VTIMEZONE
BEGIN:VEVENT
UID:b1661e5c-23f6-4bdf-8f83-8b8094c5ea51
DTSTAMP:20260423T091849Z
DESCRIPTION:Members can now see Aldridge Gardens in a whole new light!\n\nE
 xperience the Gardens like never before by exploring the grounds on a guid
 ed walking tour. Docents lead an hour-long walk one Saturday each month. 
 \n\nJoin other members for coffee and tea at 8:30. In addition\, muffins a
 nd fruit will be provided by <i>The Egg & I</i>. You'll have the opportuni
 ty to find out what's happening at the Gardens and provide feedback or sug
 gestions. The tour will begin at 9:00. Space is limited to 20 members and 
 RSVP is required. \n\nAn additional Members Only Guided Gardens Tour will 
 be held on October 10.
DTSTART;TZID=America/Chicago:20150912T083000
DTEND;TZID=America/Chicago:20150912T100000
LOCATION:Meet at the patio near Roots Garden and Gift Shop
SUMMARY:Members Only Guided Gardens Tour
END:VEVENT
END:VCALENDAR
