BEGIN:VCALENDAR
VERSION:2.0
PRODID:-//aldridgegardens.com//NONSGML kigkonsult.se iCalcreator 2.30.10//
CALSCALE:GREGORIAN
METHOD:PUBLISH
UID:c1adb1dc-ed20-4217-a7f6-4fe3337afe43
X-WR-CALDESC:Succulents are moisture-retentive plants that have\, over time
 \, adapted to harsh living conditions and the limited availability of wate
 r. Class participants will learn about the journey of succulents native to
  the Americas – exploring  the tropics\, four deserts\, alpine rock outcro
 ps\, and local glades.  After the program\, everyone will have the opportu
 nity to pot different varieties of winter-hardy sedums in peat pots to tak
 e home and plant. \n\nMembers:  $20/Non-Members $25\n\nInstructor:  Michel
 le Reynolds\, Gardener\, Native Plant Enthusiast\, and Environmental Educa
 tor. As a contributing writer for <i>Alabama Gardener Magazine</i> and DIY
  Network’s <i>Made + Remade</i>\, Michelle strives to weave together lesso
 ns in sustainability and appreciation for the natural world.\n
X-WR-RELCALID:fa8466b34c844a8cdcd7524b52abd85a
X-WR-TIMEZONE:America/Chicago
BEGIN:VTIMEZONE
TZID:America/Chicago
BEGIN:STANDARD
TZNAME:CST
DTSTART:20141102T020000
TZOFFSETFROM:-0500
TZOFFSETTO:-0600
RDATE:20151101T020000
RDATE:20161106T020000
END:STANDARD
BEGIN:DAYLIGHT
TZNAME:CDT
DTSTART:20150308T020000
TZOFFSETFROM:-0600
TZOFFSETTO:-0500
RDATE:20160313T020000
RDATE:20170312T020000
END:DAYLIGHT
END:VTIMEZONE
BEGIN:VEVENT
UID:1ac60b4b-e382-40b4-a0a5-67cf497584ef
DTSTAMP:20260423T091844Z
DESCRIPTION:Succulents are moisture-retentive plants that have\, over time\
 , adapted to harsh living conditions and the limited availability of water
 . Class participants will learn about the journey of succulents native to 
 the Americas – exploring  the tropics\, four deserts\, alpine rock outcrop
 s\, and local glades.  After the program\, everyone will have the opportun
 ity to pot different varieties of winter-hardy sedums in peat pots to take
  home and plant. \n\nMembers:  $20/Non-Members $25\n\nInstructor:  Michell
 e Reynolds\, Gardener\, Native Plant Enthusiast\, and Environmental Educat
 or. As a contributing writer for <i>Alabama Gardener Magazine</i> and DIY 
 Network’s <i>Made + Remade</i>\, Michelle strives to weave together lesson
 s in sustainability and appreciation for the natural world.\n
DTSTART;TZID=America/Chicago:20150929T180000
DTEND;TZID=America/Chicago:20150929T200000
LOCATION:
SUMMARY:Sensational Succulents
END:VEVENT
END:VCALENDAR
