BEGIN:VCALENDAR
VERSION:2.0
PRODID:-//aldridgegardens.com//NONSGML kigkonsult.se iCalcreator 2.30.10//
CALSCALE:GREGORIAN
METHOD:PUBLISH
UID:c1ec1e43-918e-4451-80e1-251ce422dd96
X-WR-CALDESC:Please join us as we welcome art students from Hoover and Spai
 n Park high schools to Aldridge Gardens. The talent and level of work to b
 e included will be extremely high. For instance\, the images featured abov
 e are just a sampling of the work that will be a part of the show. \n\nEac
 h high school will submit fifteen visual art pieces. Dr. Lowell Vann\, Cha
 ir of the Samford University Art Department\, will judge the show and an a
 wards reception will be held on Thursday\, October 8\, 2015 from 5 p.m. to
  7 p.m.\n \nSignature Homes\, the presenting sponsor\, will award the foll
 owing scholarship amounts to four talented students: \n1st Place @ $1\,000
 \n2nd Place @ $500\n3rd Place @ $250\n4th Place @ $100\n\nSpecial thanks t
 o: \n<i>James Knowles\nHoover High School\, Visual Arts Instructor\nHoover
  City Schools Fine Arts Facilitator\nNational Board Certified Teacher\n \n
 Cindy Childers\nSpain Park High School\, Visual Arts Instructor</i>\n\nPre
 senting Sponsor: \n<i>Signature Homes</i>\n\nThe students' work will be di
 splayed in the Eddie and Kay Aldridge Arts & Historical Collections Museum
  through November.
X-WR-RELCALID:ed2a7e51b047b99f8199f27952fc198e
X-WR-TIMEZONE:America/Chicago
BEGIN:VTIMEZONE
TZID:America/Chicago
BEGIN:STANDARD
TZNAME:CST
DTSTART:20141102T020000
TZOFFSETFROM:-0500
TZOFFSETTO:-0600
RDATE:20151101T020000
RDATE:20161106T020000
END:STANDARD
BEGIN:DAYLIGHT
TZNAME:CDT
DTSTART:20150308T020000
TZOFFSETFROM:-0600
TZOFFSETTO:-0500
RDATE:20160313T020000
RDATE:20170312T020000
END:DAYLIGHT
END:VTIMEZONE
BEGIN:VEVENT
UID:ee8d4ff9-bb07-48f0-805d-de5e95c165ad
DTSTAMP:20260423T070247Z
DESCRIPTION:Please join us as we welcome art students from Hoover and Spain
  Park high schools to Aldridge Gardens. The talent and level of work to be
  included will be extremely high. For instance\, the images featured above
  are just a sampling of the work that will be a part of the show. \n\nEach
  high school will submit fifteen visual art pieces. Dr. Lowell Vann\, Chai
 r of the Samford University Art Department\, will judge the show and an aw
 ards reception will be held on Thursday\, October 8\, 2015 from 5 p.m. to 
 7 p.m.\n \nSignature Homes\, the presenting sponsor\, will award the follo
 wing scholarship amounts to four talented students: \n1st Place @ $1\,000
 \n2nd Place @ $500\n3rd Place @ $250\n4th Place @ $100\n\nSpecial thanks t
 o: \n<i>James Knowles\nHoover High School\, Visual Arts Instructor\nHoover
  City Schools Fine Arts Facilitator\nNational Board Certified Teacher\n \n
 Cindy Childers\nSpain Park High School\, Visual Arts Instructor</i>\n\nPre
 senting Sponsor: \n<i>Signature Homes</i>\n\nThe students' work will be di
 splayed in the Eddie and Kay Aldridge Arts & Historical Collections Museum
  through November.
DTSTART;TZID=America/Chicago:20151008T170000
DTEND;TZID=America/Chicago:20151008T190000
LOCATION:Eddie and Kay Aldridge Arts & Historical Collections Museum
SUMMARY:Hoover and Spain Park High Schools Art Show
END:VEVENT
END:VCALENDAR
