BEGIN:VCALENDAR
VERSION:2.0
PRODID:-//aldridgegardens.com//NONSGML kigkonsult.se iCalcreator 2.30.10//
CALSCALE:GREGORIAN
METHOD:PUBLISH
UID:f4ce7e02-e9ad-43ad-a0ca-d4a33216b709
X-WR-CALDESC:Admission at the gate\n$10 for visitors 18 and older\n$5 child
 ren 2 and older\, and all crafts are included (while supplies last)\nChild
 ren younger than 2 are free\n\nOffsite parking available at the Bed Bath &
  Beyond parking lot on Lorna Road. Hoover trolleys will pick up next to Lo
 rna Road and take visitors to the Gardens.\n\n<b><i>Please note this is a 
 special event\, and we will not offer free admission to the Gardens during
  Whispers from the Past.</i></b>\n\nThis fall take a trip back in time to 
 rediscover the culture and contributions of Native Alabamians at Whispers 
 From the Past – A Native American Experience.\n\nNative American life will
  take shape through demonstrations of flintknapping\, hunting weapons\, pi
 ne needle basket weaving\, stick ball\, corn husk dolls\, and dream catche
 rs\, along with activities like leaf pounding\, bead weaving on looms\, co
 rn grinding\, gourd painting\, and pottery. Children can try their hands a
 t games and activities. Hear the sounds of drums and flutes\, and the high
 light of the day - three dance performances by Native American Pow Wow dan
 cers. The Pow Wow demonstrations will last approximately 45 minutes and wi
 ll take place at 11:30 a.m.\, 2:00 p.m.\, and 4:00 p.m. Authentic Native A
 merican food will be available for purchase as well as handmade flutes\, a
 rtifacts\, and more. \n\n<a href='http://aldridgegardens.com/education/eve
 nts/annual_events/'>Click here for much more on the day's events\, vendors
 \, and what visitors can expect at <i> Whispers from the Past.</i></a>\n
X-WR-RELCALID:ad8f8f268993d5e5a76be07d691a04ec
X-WR-TIMEZONE:America/Chicago
BEGIN:VTIMEZONE
TZID:America/Chicago
BEGIN:STANDARD
TZNAME:CST
DTSTART:20141102T020000
TZOFFSETFROM:-0500
TZOFFSETTO:-0600
RDATE:20151101T020000
RDATE:20161106T020000
END:STANDARD
BEGIN:DAYLIGHT
TZNAME:CDT
DTSTART:20150308T020000
TZOFFSETFROM:-0600
TZOFFSETTO:-0500
RDATE:20160313T020000
RDATE:20170312T020000
END:DAYLIGHT
END:VTIMEZONE
BEGIN:VEVENT
UID:81b61824-c42b-4894-8244-92c293169988
DTSTAMP:20260423T070602Z
DESCRIPTION:Admission at the gate\n$10 for visitors 18 and older\n$5 childr
 en 2 and older\, and all crafts are included (while supplies last)\nChildr
 en younger than 2 are free\n\nOffsite parking available at the Bed Bath & 
 Beyond parking lot on Lorna Road. Hoover trolleys will pick up next to Lor
 na Road and take visitors to the Gardens.\n\n<b><i>Please note this is a s
 pecial event\, and we will not offer free admission to the Gardens during 
 Whispers from the Past.</i></b>\n\nThis fall take a trip back in time to r
 ediscover the culture and contributions of Native Alabamians at Whispers F
 rom the Past – A Native American Experience.\n\nNative American life will 
 take shape through demonstrations of flintknapping\, hunting weapons\, pin
 e needle basket weaving\, stick ball\, corn husk dolls\, and dream catcher
 s\, along with activities like leaf pounding\, bead weaving on looms\, cor
 n grinding\, gourd painting\, and pottery. Children can try their hands at
  games and activities. Hear the sounds of drums and flutes\, and the highl
 ight of the day - three dance performances by Native American Pow Wow danc
 ers. The Pow Wow demonstrations will last approximately 45 minutes and wil
 l take place at 11:30 a.m.\, 2:00 p.m.\, and 4:00 p.m. Authentic Native Am
 erican food will be available for purchase as well as handmade flutes\, ar
 tifacts\, and more. \n\n<a href='http://aldridgegardens.com/education/even
 ts/annual_events/'>Click here for much more on the day's events\, vendors\
 , and what visitors can expect at <i> Whispers from the Past.</i></a>\n
DTSTART;TZID=America/Chicago:20151011T100000
DTEND;TZID=America/Chicago:20151011T180000
LOCATION:
SUMMARY:Whispers from the Past - A Native American Experience
END:VEVENT
END:VCALENDAR
