BEGIN:VCALENDAR
VERSION:2.0
PRODID:-//aldridgegardens.com//NONSGML kigkonsult.se iCalcreator 2.30.10//
CALSCALE:GREGORIAN
METHOD:PUBLISH
UID:149c2850-28f4-4f65-96f6-6b968921e109
X-WR-CALDESC:<b>THIS EVENT IS SOLD OUT!</b>\n\nTaste of Hoover celebrates t
 he variety of culinary styles found throughout the city. \n \nEnjoy an aut
 umn evening with us strolling through the Gardens and sampling delicious d
 ishes from some of Hoover's best restaurants\, caterers\, and more. Taste 
 international wines and local beers while listening to live entertainment.
  \n\n$25 members/$35 non-members\nOnly a limited number of tickets are ava
 ilable - get yours now!\n<i>Please note this is a special event and we wil
 l not offer free admission to the Gardens during Taste of Hoover.</i> \n\n
 Here's a list of Hoover restaurants and Aldridge Gardens preferred vendors
  who will be serving scrumptious samples from their menus:\n\n<b>Restauran
 ts</b>\nAshley Mac's\nBare Naked Noodles\nBuffalo Wild Wings\nCajun Steame
 r\nCalifornia Pizza Kitchen\nCapers on Park Avenue\nCostco\nDale's Souther
 n Grill\nEdgars Bakery\nFried Green Tomato's\nJoe's Crab Shack\nJubilee Jo
 e's\nNewks Eatery\nPastry Art Bake Shoppe\nPie Five Pizza Co.\nRagtime Caf
 é\nRock-N-Roll Sushi\nShula's Steak House\nSpoon and Ladle\nTaqueria Mexic
 o\nTaziki's Mediterranean Café\nThe Boot\nThe Cajun Cleaver\nThe Whole Sco
 op\nUrban Pops\nVecchia Pizzeria & Mercato\n\n<b>Caterers</b>\nFive Star E
 vent Catering\nIZ Catering\nJim 'n Nicks\nRX Catering\nSavoie Catering\nTh
 e Happy Catering Co.\n\n<b>More</b>\nJefferson State Culinary  & Hospitali
 ty Institute\nCoca-Cola Bottling Co. United\, Inc.\nInternational Wines & 
 Craft Beer\nLighting The Way\nRoyal Cup Coffee\n\n<b>Entertainment</b>\nRa
 quel Lily\n\nInterested vendors\, please contact Tynette Lynch at 205.682.
 8019 or tlynch@aldridgegardens.com. Our <b>vendor application form</b> is 
 available for download under 'related links' at the bottom of this page. 
 \n\nTaste of Hoover is sponsored by the <i>Hoover Sun</i>. \n\n<b>THIS EVE
 NT IS SOLD OUT!</b>\n
X-WR-RELCALID:fb5176c90fda39ee53341218cd328d5a
X-WR-TIMEZONE:America/Chicago
BEGIN:VTIMEZONE
TZID:America/Chicago
BEGIN:STANDARD
TZNAME:CST
DTSTART:20141102T020000
TZOFFSETFROM:-0500
TZOFFSETTO:-0600
RDATE:20151101T020000
RDATE:20161106T020000
END:STANDARD
BEGIN:DAYLIGHT
TZNAME:CDT
DTSTART:20150308T020000
TZOFFSETFROM:-0600
TZOFFSETTO:-0500
RDATE:20160313T020000
RDATE:20170312T020000
END:DAYLIGHT
END:VTIMEZONE
BEGIN:VEVENT
UID:3bb51e6d-5d66-44fd-abe0-0a9950fa5206
DTSTAMP:20260423T070438Z
DESCRIPTION:<b>THIS EVENT IS SOLD OUT!</b>\n\nTaste of Hoover celebrates th
 e variety of culinary styles found throughout the city. \n \nEnjoy an autu
 mn evening with us strolling through the Gardens and sampling delicious di
 shes from some of Hoover's best restaurants\, caterers\, and more. Taste i
 nternational wines and local beers while listening to live entertainment. 
 \n\n$25 members/$35 non-members\nOnly a limited number of tickets are avai
 lable - get yours now!\n<i>Please note this is a special event and we will
  not offer free admission to the Gardens during Taste of Hoover.</i> \n\nH
 ere's a list of Hoover restaurants and Aldridge Gardens preferred vendors 
 who will be serving scrumptious samples from their menus:\n\n<b>Restaurant
 s</b>\nAshley Mac's\nBare Naked Noodles\nBuffalo Wild Wings\nCajun Steamer
 \nCalifornia Pizza Kitchen\nCapers on Park Avenue\nCostco\nDale's Southern
  Grill\nEdgars Bakery\nFried Green Tomato's\nJoe's Crab Shack\nJubilee Joe
 's\nNewks Eatery\nPastry Art Bake Shoppe\nPie Five Pizza Co.\nRagtime Café
 \nRock-N-Roll Sushi\nShula's Steak House\nSpoon and Ladle\nTaqueria Mexico
 \nTaziki's Mediterranean Café\nThe Boot\nThe Cajun Cleaver\nThe Whole Scoo
 p\nUrban Pops\nVecchia Pizzeria & Mercato\n\n<b>Caterers</b>\nFive Star Ev
 ent Catering\nIZ Catering\nJim 'n Nicks\nRX Catering\nSavoie Catering\nThe
  Happy Catering Co.\n\n<b>More</b>\nJefferson State Culinary  & Hospitalit
 y Institute\nCoca-Cola Bottling Co. United\, Inc.\nInternational Wines & C
 raft Beer\nLighting The Way\nRoyal Cup Coffee\n\n<b>Entertainment</b>\nRaq
 uel Lily\n\nInterested vendors\, please contact Tynette Lynch at 205.682.8
 019 or tlynch@aldridgegardens.com. Our <b>vendor application form</b> is a
 vailable for download under 'related links' at the bottom of this page. \n
 \nTaste of Hoover is sponsored by the <i>Hoover Sun</i>. \n\n<b>THIS EVENT
  IS SOLD OUT!</b>\n
DTSTART;TZID=America/Chicago:20151022T170000
DTEND;TZID=America/Chicago:20151022T200000
LOCATION:
SUMMARY:Taste of Hoover
END:VEVENT
END:VCALENDAR
