BEGIN:VCALENDAR
VERSION:2.0
PRODID:-//aldridgegardens.com//NONSGML kigkonsult.se iCalcreator 2.30.10//
CALSCALE:GREGORIAN
METHOD:PUBLISH
UID:13b34a0f-2fab-4179-bf2a-b521f5d19d7d
X-WR-CALDESC:Saturday mornings were made for this!\n\nYou can't go wrong wi
 th fresh air and a little exercise while on a guided tour of the Gardens. 
 Join Dr. Richard and Patricia Ryel for a walk on our grounds to catch a gl
 impse of the beautiful birds that are migrating through the area. This mon
 thly members-only event is free\, but we do ask that you kindly RSVP.
X-WR-RELCALID:badd89b7b305f188b5e8e462fcaa19e3
X-WR-TIMEZONE:America/Chicago
BEGIN:VTIMEZONE
TZID:America/Chicago
BEGIN:STANDARD
TZNAME:CST
DTSTART:20141102T020000
TZOFFSETFROM:-0500
TZOFFSETTO:-0600
RDATE:20151101T020000
RDATE:20161106T020000
END:STANDARD
BEGIN:DAYLIGHT
TZNAME:CDT
DTSTART:20150308T020000
TZOFFSETFROM:-0600
TZOFFSETTO:-0500
RDATE:20160313T020000
RDATE:20170312T020000
END:DAYLIGHT
END:VTIMEZONE
BEGIN:VEVENT
UID:bd80802a-66e2-497f-bf54-0c3800a8fcf4
DTSTAMP:20260423T070304Z
DESCRIPTION:Saturday mornings were made for this!\n\nYou can't go wrong wit
 h fresh air and a little exercise while on a guided tour of the Gardens. J
 oin Dr. Richard and Patricia Ryel for a walk on our grounds to catch a gli
 mpse of the beautiful birds that are migrating through the area. This mont
 hly members-only event is free\, but we do ask that you kindly RSVP.
DTSTART;TZID=America/Chicago:20151024T080000
DTEND;TZID=America/Chicago:20151024T100000
LOCATION:
SUMMARY:Members Only Guided Bird Walk
END:VEVENT
END:VCALENDAR
