BEGIN:VCALENDAR
VERSION:2.0
PRODID:-//aldridgegardens.com//NONSGML kigkonsult.se iCalcreator 2.30.10//
CALSCALE:GREGORIAN
METHOD:PUBLISH
UID:0e0c5e3e-1a69-407f-b79d-7d078ceeace4
X-WR-CALDESC:Radical self-care. Balance. Healthy is the new skinny. \n\nSta
 r Rosser loves it all. That's what her yoga classes and lifestyle are abou
 t. \n\nSome people think an intense flow class is needed to get a good wor
 kout. Her gentle yoga classes actually give the body a workout along with 
 the mind and soul. \n\nIt's a bigger picture. It's about balance. It's abo
 ut taking the time to connect with the body. It's about giving self-care\,
  self-acceptance and self love. These body positive classes welcome all sh
 apes and sizes.\n\nJoin Star for her Gentle Yoga classes at Aldridge Garde
 ns on Wednesday mornings through October. Classes are drop-in\, weather pe
 rmitting. $15 per class. Bring a yoga mat\, a thick towel\, a positive att
 itude and an open heart. \n\nFor more information\, to RSVP for classes\, 
 or check for cancellations due to weather\, like her Facebook page Souther
 n Star Wellness. A link is provided below.\n
X-WR-RELCALID:f9e864006d5d4bf8ecce5dee639704c3
X-WR-TIMEZONE:America/Chicago
BEGIN:VTIMEZONE
TZID:America/Chicago
BEGIN:STANDARD
TZNAME:CST
DTSTART:20141102T020000
TZOFFSETFROM:-0500
TZOFFSETTO:-0600
RDATE:20151101T020000
RDATE:20161106T020000
END:STANDARD
BEGIN:DAYLIGHT
TZNAME:CDT
DTSTART:20150308T020000
TZOFFSETFROM:-0600
TZOFFSETTO:-0500
RDATE:20160313T020000
RDATE:20170312T020000
END:DAYLIGHT
END:VTIMEZONE
BEGIN:VEVENT
UID:94dca462-edef-44d0-af2a-3d86311933a7
DTSTAMP:20260423T065636Z
DESCRIPTION:Radical self-care. Balance. Healthy is the new skinny. \n\nStar
  Rosser loves it all. That's what her yoga classes and lifestyle are about
 . \n\nSome people think an intense flow class is needed to get a good work
 out. Her gentle yoga classes actually give the body a workout along with t
 he mind and soul. \n\nIt's a bigger picture. It's about balance. It's abou
 t taking the time to connect with the body. It's about giving self-care\, 
 self-acceptance and self love. These body positive classes welcome all sha
 pes and sizes.\n\nJoin Star for her Gentle Yoga classes at Aldridge Garden
 s on Wednesday mornings through October. Classes are drop-in\, weather per
 mitting. $15 per class. Bring a yoga mat\, a thick towel\, a positive atti
 tude and an open heart. \n\nFor more information\, to RSVP for classes\, o
 r check for cancellations due to weather\, like her Facebook page Southern
  Star Wellness. A link is provided below.\n
DTSTART;TZID=America/Chicago:20151028T093000
DTEND;TZID=America/Chicago:20151028T104500
LOCATION:The patio near Roots Garden and Gift Shop
SUMMARY:Gentle Yoga
END:VEVENT
END:VCALENDAR
