BEGIN:VCALENDAR
VERSION:2.0
PRODID:-//aldridgegardens.com//NONSGML kigkonsult.se iCalcreator 2.30.10//
CALSCALE:GREGORIAN
METHOD:PUBLISH
UID:25c1b62c-a940-44ca-9dd1-92ec82baa1ad
X-WR-CALDESC:It's the last bird walk of the 2015 season!\n\nYou can't go wr
 ong with fresh air and a little exercise while on a guided tour of the Gar
 dens. Join Dr. Richard and Patricia Ryel for a walk on our grounds to catc
 h a glimpse of the beautiful birds that are migrating through the area. Th
 is monthly members-only event is free\, but we do ask that you kindly RSVP
 .
X-WR-RELCALID:71db1f2e648ad47622e3111715ed5d16
X-WR-TIMEZONE:America/Chicago
BEGIN:VTIMEZONE
TZID:America/Chicago
BEGIN:STANDARD
TZNAME:CST
DTSTART:20151101T020000
TZOFFSETFROM:-0500
TZOFFSETTO:-0600
RDATE:20161106T020000
END:STANDARD
BEGIN:DAYLIGHT
TZNAME:CDT
DTSTART:20150308T020000
TZOFFSETFROM:-0600
TZOFFSETTO:-0500
RDATE:20160313T020000
RDATE:20170312T020000
END:DAYLIGHT
END:VTIMEZONE
BEGIN:VEVENT
UID:758e6197-0673-4111-9028-831fa77ed9aa
DTSTAMP:20260423T053333Z
DESCRIPTION:It's the last bird walk of the 2015 season!\n\nYou can't go wro
 ng with fresh air and a little exercise while on a guided tour of the Gard
 ens. Join Dr. Richard and Patricia Ryel for a walk on our grounds to catch
  a glimpse of the beautiful birds that are migrating through the area. Thi
 s monthly members-only event is free\, but we do ask that you kindly RSVP.
DTSTART;TZID=America/Chicago:20151107T080000
DTEND;TZID=America/Chicago:20151107T100000
LOCATION:
SUMMARY:Members Only Guided Bird Walk
END:VEVENT
END:VCALENDAR
