BEGIN:VCALENDAR
VERSION:2.0
PRODID:-//aldridgegardens.com//NONSGML kigkonsult.se iCalcreator 2.30.10//
CALSCALE:GREGORIAN
METHOD:PUBLISH
UID:78422343-8112-45aa-92b6-f695959ff281
X-WR-CALDESC:Learn about the fascinating world of spiders!  \n\nDr. Hataway
  will discuss his experiences with spiders both in the wild and in the lab
 oratory\, and bring some interesting arachnids to view up close.  Learn ho
 w to distinguish venomous from non-venomous spiders.  Bring your flashligh
 ts for a fun-filled field trip after class in search of harmless wolf spid
 ers on the grounds of Aldridge Gardens.  Come join us for a “spiderific” e
 vening in a great family-oriented seminar for young and old alike…but not 
 for the faint of heart! Each child will receive a spider ring. \n\nThe ins
 tructor\, Dr. Drew Hataway\, is with the Biology Department at Samford Uni
 versity. \n\nCost for Aldridge Gardens members:  \nAdult $12.  Child $5.  
  Family (parents or grandparents with children\, $22) \n\nCost for non-mem
 bers:  \nAdult $15.  Child $7.  Family (parents or grandparents with child
 ren\, $28) \n
X-WR-RELCALID:a5a2ff0359f600b17ee5161d2e616082
X-WR-TIMEZONE:America/Chicago
BEGIN:VTIMEZONE
TZID:America/Chicago
BEGIN:STANDARD
TZNAME:CST
DTSTART:20151101T020000
TZOFFSETFROM:-0500
TZOFFSETTO:-0600
RDATE:20161106T020000
END:STANDARD
BEGIN:DAYLIGHT
TZNAME:CDT
DTSTART:20150308T020000
TZOFFSETFROM:-0600
TZOFFSETTO:-0500
RDATE:20160313T020000
RDATE:20170312T020000
END:DAYLIGHT
END:VTIMEZONE
BEGIN:VEVENT
UID:6ce8b903-3e6e-4529-888d-e015644e58a3
DTSTAMP:20260423T051948Z
DESCRIPTION:Learn about the fascinating world of spiders!  \n\nDr. Hataway 
 will discuss his experiences with spiders both in the wild and in the labo
 ratory\, and bring some interesting arachnids to view up close.  Learn how
  to distinguish venomous from non-venomous spiders.  Bring your flashlight
 s for a fun-filled field trip after class in search of harmless wolf spide
 rs on the grounds of Aldridge Gardens.  Come join us for a “spiderific” ev
 ening in a great family-oriented seminar for young and old alike…but not f
 or the faint of heart! Each child will receive a spider ring. \n\nThe inst
 ructor\, Dr. Drew Hataway\, is with the Biology Department at Samford Univ
 ersity. \n\nCost for Aldridge Gardens members:  \nAdult $12.  Child $5.   
 Family (parents or grandparents with children\, $22) \n\nCost for non-memb
 ers:  \nAdult $15.  Child $7.  Family (parents or grandparents with childr
 en\, $28) \n
DTSTART;TZID=America/Chicago:20151110T183000
DTEND;TZID=America/Chicago:20151110T203000
LOCATION:
SUMMARY:Creepy Crawly Spiders of Alabama
END:VEVENT
END:VCALENDAR
