BEGIN:VCALENDAR
VERSION:2.0
PRODID:-//aldridgegardens.com//NONSGML kigkonsult.se iCalcreator 2.30.10//
CALSCALE:GREGORIAN
METHOD:PUBLISH
UID:16335e9a-6d2d-4ce0-888e-b09c4f4c243f
X-WR-CALDESC:Please join us as we welcome Keith Cromwell to Aldridge Garden
 s. Propagator level members will enjoy their monthly wine reception\, begi
 nning at 5 p.m.\, while mixing and mingling with our special guest.  Aroun
 d 5:30 p.m.\, Linda Sewell will introduce Keith and then we'll get to hear
  directly from the source about how he transformed the Red Mountain Theatr
 e Company into what it is today.  \n\nNeed to know more about Cromwell and
  his story before Thursday the 12th? Then you'll want to read the article 
 that <a href='http://www.al.com/bhammag/index.ssf/2014/06/the_man_behind_t
 he_curtain_in.html' target=_new>Birmingham Magazine published on him last 
 year</a>. Or simply wait until the reception to hear more\, right from Kei
 th himself. Either way\, please let us know if you'll be joining us by usi
 ng the RSVP function below.\n
X-WR-RELCALID:db512eb44f74e333f15e6cad424009b5
X-WR-TIMEZONE:America/Chicago
BEGIN:VTIMEZONE
TZID:America/Chicago
BEGIN:STANDARD
TZNAME:CST
DTSTART:20151101T020000
TZOFFSETFROM:-0500
TZOFFSETTO:-0600
RDATE:20161106T020000
END:STANDARD
BEGIN:DAYLIGHT
TZNAME:CDT
DTSTART:20150308T020000
TZOFFSETFROM:-0600
TZOFFSETTO:-0500
RDATE:20160313T020000
RDATE:20170312T020000
END:DAYLIGHT
END:VTIMEZONE
BEGIN:VEVENT
UID:46426439-9e6a-4060-9d1d-c09a5d82a08e
DTSTAMP:20260423T051950Z
DESCRIPTION:Please join us as we welcome Keith Cromwell to Aldridge Gardens
 . Propagator level members will enjoy their monthly wine reception\, begin
 ning at 5 p.m.\, while mixing and mingling with our special guest.  Around
  5:30 p.m.\, Linda Sewell will introduce Keith and then we'll get to hear 
 directly from the source about how he transformed the Red Mountain Theatre
  Company into what it is today.  \n\nNeed to know more about Cromwell and 
 his story before Thursday the 12th? Then you'll want to read the article t
 hat <a href='http://www.al.com/bhammag/index.ssf/2014/06/the_man_behind_th
 e_curtain_in.html' target=_new>Birmingham Magazine published on him last y
 ear</a>. Or simply wait until the reception to hear more\, right from Keit
 h himself. Either way\, please let us know if you'll be joining us by usin
 g the RSVP function below.\n
DTSTART;TZID=America/Chicago:20151112T170000
DTEND;TZID=America/Chicago:20151112T190000
LOCATION:Eddie and Kay Aldridge Arts & Historical Collections Museum
SUMMARY:Propagators Reception: Keith Cromwell
END:VEVENT
END:VCALENDAR
