BEGIN:VCALENDAR
VERSION:2.0
PRODID:-//aldridgegardens.com//NONSGML kigkonsult.se iCalcreator 2.30.10//
CALSCALE:GREGORIAN
METHOD:PUBLISH
UID:9f41d3f7-eea6-4027-a6ca-a534bd83b9aa
X-WR-CALDESC:Get ready to learn new techniques! Watch award-winning floral 
 designers\, Carol B. Harris and Ricky Whitley\, as they decorate areas in 
 the house and Gardens using local greenery. Participants should bring glov
 es\, clippers\, scissors\, and a camera to join the fun. Bring your favori
 te ribbon\, and we will help you make bows. Workshop attendees will also r
 eceive a discount at the Roots Garden and Gift Shop on the day of class. 
 \n\nThe cost is $30 for Aldridge Gardens members and $40 for non-members.
X-WR-RELCALID:bbbb822993e972d815615c2afe02a64c
X-WR-TIMEZONE:America/Chicago
BEGIN:VTIMEZONE
TZID:America/Chicago
BEGIN:STANDARD
TZNAME:CST
DTSTART:20151101T020000
TZOFFSETFROM:-0500
TZOFFSETTO:-0600
RDATE:20161106T020000
END:STANDARD
BEGIN:DAYLIGHT
TZNAME:CDT
DTSTART:20150308T020000
TZOFFSETFROM:-0600
TZOFFSETTO:-0500
RDATE:20160313T020000
RDATE:20170312T020000
END:DAYLIGHT
END:VTIMEZONE
BEGIN:VEVENT
UID:a166a021-9d46-4376-8859-4af20dfc8222
DTSTAMP:20260423T051249Z
DESCRIPTION:Get ready to learn new techniques! Watch award-winning floral d
 esigners\, Carol B. Harris and Ricky Whitley\, as they decorate areas in t
 he house and Gardens using local greenery. Participants should bring glove
 s\, clippers\, scissors\, and a camera to join the fun. Bring your favorit
 e ribbon\, and we will help you make bows. Workshop attendees will also re
 ceive a discount at the Roots Garden and Gift Shop on the day of class. \n
 \nThe cost is $30 for Aldridge Gardens members and $40 for non-members.
DTSTART;TZID=America/Chicago:20151130T100000
DTEND;TZID=America/Chicago:20151130T120000
LOCATION:Eddie and Kay Aldridge Arts and Historical Collections Museum
SUMMARY:Holiday Greenery Workshop
END:VEVENT
END:VCALENDAR
