BEGIN:VCALENDAR
VERSION:2.0
PRODID:-//aldridgegardens.com//NONSGML kigkonsult.se iCalcreator 2.30.10//
CALSCALE:GREGORIAN
METHOD:PUBLISH
UID:9331ad77-a77b-4c96-962a-d0f15d05e1bf
X-WR-CALDESC:Join us on Saturday\, March 5\, 2016 for Hoover’s 18th annual 
 Arbor Day celebration.  Event includes FREE TREES for Hoover residents\, a
  formal Arbor Day ceremony\, recognition of Hoover Schools' 4th Grade Arbo
 r Day Essay Contest winners\, and a ceremonial tree planting. In addition\
 , our Roots Gift Shop will open at 9:30 a.m. and plenty of food and drinks
  will be available from local sponsors. ISA Certified Arborists and other 
 plant experts will also be on hand to answer tree and other plant question
 s. The festivities start at 9:30 a.m. and end by 11:30 a.m.  Come show you
 r support for Hoover’s most valuable natural resource!\n\n<i>Photo courtes
 y: Hoover Sun</i>
X-WR-RELCALID:1ef0a1b607ecb168a4fd2097991b6702
X-WR-TIMEZONE:America/Chicago
BEGIN:VTIMEZONE
TZID:America/Chicago
BEGIN:STANDARD
TZNAME:CST
DTSTART:20151101T020000
TZOFFSETFROM:-0500
TZOFFSETTO:-0600
RDATE:20161106T020000
END:STANDARD
BEGIN:DAYLIGHT
TZNAME:CDT
DTSTART:20150308T020000
TZOFFSETFROM:-0600
TZOFFSETTO:-0500
RDATE:20160313T020000
RDATE:20170312T020000
END:DAYLIGHT
END:VTIMEZONE
BEGIN:VEVENT
UID:1fd10944-d8d5-4890-828f-4566993041bf
DTSTAMP:20260422T221953Z
DESCRIPTION:Join us on Saturday\, March 5\, 2016 for Hoover’s 18th annual A
 rbor Day celebration.  Event includes FREE TREES for Hoover residents\, a 
 formal Arbor Day ceremony\, recognition of Hoover Schools' 4th Grade Arbor
  Day Essay Contest winners\, and a ceremonial tree planting. In addition\,
  our Roots Gift Shop will open at 9:30 a.m. and plenty of food and drinks 
 will be available from local sponsors. ISA Certified Arborists and other p
 lant experts will also be on hand to answer tree and other plant questions
 . The festivities start at 9:30 a.m. and end by 11:30 a.m.  Come show your
  support for Hoover’s most valuable natural resource!\n\n<i>Photo courtesy
 : Hoover Sun</i>
DTSTART;TZID=America/Chicago:20160305T093000
DTEND;TZID=America/Chicago:20160305T120000
LOCATION:Aldridge Gardens
SUMMARY:City of Hoover’s 18th Annual Arbor Day Celebration presented by the
  Hoover Beautification Board
END:VEVENT
END:VCALENDAR
