BEGIN:VCALENDAR
VERSION:2.0
PRODID:-//aldridgegardens.com//NONSGML kigkonsult.se iCalcreator 2.30.10//
CALSCALE:GREGORIAN
METHOD:PUBLISH
UID:f1caa25e-b2dd-4d89-a0c9-d0b993adbd86
X-WR-CALDESC:Propagators -- Please join us on Thursday the 10th\, to thank 
 Jim McLane for his generous donation of our new bonsai collection. Propaga
 tor level members will enjoy their monthly wine reception\, beginning at 5
  p.m.\, while mixing and mingling with our special guest. \n\nMr. McLane h
 as graciously donated these beautiful specimens to Aldridge Gardens from h
 is personal collection\, and you will find them displayed behind the house
  adjacent to the patio. Bonsais are ornamental trees or shrubs grown in sh
 allow pots. By pruning the roots and pinching\, he has trained these plant
 s over many years to produce artistic shapes\, often looking like very old
  trees\, in miniature.\n\nLearn more about our beautiful collection\, dire
 ctly from Jim\, at Aldridge Gardens on March 10th\, from 5 to 7:00 p.m.		 \n
X-WR-RELCALID:df69bf03cb8194b32a76af33fb4bb76f
X-WR-TIMEZONE:America/Chicago
BEGIN:VTIMEZONE
TZID:America/Chicago
BEGIN:STANDARD
TZNAME:CST
DTSTART:20151101T020000
TZOFFSETFROM:-0500
TZOFFSETTO:-0600
RDATE:20161106T020000
END:STANDARD
BEGIN:DAYLIGHT
TZNAME:CDT
DTSTART:20160313T020000
TZOFFSETFROM:-0600
TZOFFSETTO:-0500
RDATE:20170312T020000
END:DAYLIGHT
END:VTIMEZONE
BEGIN:VEVENT
UID:93cc914b-a917-4936-b889-2cd544da4163
DTSTAMP:20260422T221804Z
DESCRIPTION:Propagators -- Please join us on Thursday the 10th\, to thank J
 im McLane for his generous donation of our new bonsai collection. Propagat
 or level members will enjoy their monthly wine reception\, beginning at 5 
 p.m.\, while mixing and mingling with our special guest. \n\nMr. McLane ha
 s graciously donated these beautiful specimens to Aldridge Gardens from hi
 s personal collection\, and you will find them displayed behind the house 
 adjacent to the patio. Bonsais are ornamental trees or shrubs grown in sha
 llow pots. By pruning the roots and pinching\, he has trained these plants
  over many years to produce artistic shapes\, often looking like very old 
 trees\, in miniature.\n\nLearn more about our beautiful collection\, direc
 tly from Jim\, at Aldridge Gardens on March 10th\, from 5 to 7:00 p.m.		 \n
DTSTART;TZID=America/Chicago:20160310T170000
DTEND;TZID=America/Chicago:20160310T190000
LOCATION:
SUMMARY:Propagators Reception: Bonsai Donor Jim McLane
END:VEVENT
END:VCALENDAR
