BEGIN:VCALENDAR
VERSION:2.0
PRODID:-//aldridgegardens.com//NONSGML kigkonsult.se iCalcreator 2.30.10//
CALSCALE:GREGORIAN
METHOD:PUBLISH
UID:1f311696-43b0-4ba1-bfbb-49571599a66a
X-WR-CALDESC:In the bleak mid-winter\, come lift your spirits by designing 
 and planting your own terrarium.  Terrariums\, which have been popular sin
 ce Victorian times\, are glass enclosed containers for growing small plant
 s.  You will learn about proper soil mixes\, charcoal\, moisture\, light\,
  temperature\, fertilizing\, plant selection\, and maintenance.  Bring to 
 class a clear glass container of your choice (with or without a lid) with 
 a maximum base of 8” – 10”.  Plastic will not work.  Suggestions include a
  wide-mouth bottle\, a cookie or pickle jar\, large brandy snifter\, fish 
 bowl\, or glass cylinder.  Check out the craft stores and Home Goods for c
 ontainer ideas.  All other supplies including plants will be provided. \n
 \nThe cost is $26 for Aldridge Gardens members and $33 for non-members (in
 cluding materials). \n\nInstructor:  Donna Bishop\, Terrarium Designer\n\n
 Class Limited to 16\n\nRegistration Deadline (in order to secure materials
 ): March 14th
X-WR-RELCALID:40063c4cf06ad8e9356797df4cc961b1
X-WR-TIMEZONE:America/Chicago
BEGIN:VTIMEZONE
TZID:America/Chicago
BEGIN:STANDARD
TZNAME:CST
DTSTART:20151101T020000
TZOFFSETFROM:-0500
TZOFFSETTO:-0600
RDATE:20161106T020000
END:STANDARD
BEGIN:DAYLIGHT
TZNAME:CDT
DTSTART:20160313T020000
TZOFFSETFROM:-0600
TZOFFSETTO:-0500
RDATE:20170312T020000
END:DAYLIGHT
END:VTIMEZONE
BEGIN:VEVENT
UID:5ce8df0a-3836-4890-ae39-1a065fe9217c
DTSTAMP:20260422T223831Z
DESCRIPTION:In the bleak mid-winter\, come lift your spirits by designing a
 nd planting your own terrarium.  Terrariums\, which have been popular sinc
 e Victorian times\, are glass enclosed containers for growing small plants
 .  You will learn about proper soil mixes\, charcoal\, moisture\, light\, 
 temperature\, fertilizing\, plant selection\, and maintenance.  Bring to c
 lass a clear glass container of your choice (with or without a lid) with a
  maximum base of 8” – 10”.  Plastic will not work.  Suggestions include a 
 wide-mouth bottle\, a cookie or pickle jar\, large brandy snifter\, fish b
 owl\, or glass cylinder.  Check out the craft stores and Home Goods for co
 ntainer ideas.  All other supplies including plants will be provided. \n\n
 The cost is $26 for Aldridge Gardens members and $33 for non-members (incl
 uding materials). \n\nInstructor:  Donna Bishop\, Terrarium Designer\n\nCl
 ass Limited to 16\n\nRegistration Deadline (in order to secure materials):
  March 14th
DTSTART;TZID=America/Chicago:20160319T100000
DTEND;TZID=America/Chicago:20160319T120000
LOCATION:Eddie and Kay Aldridge Arts and Historical Collections Museum
SUMMARY:Make Your Own Terrarium
END:VEVENT
END:VCALENDAR
