BEGIN:VCALENDAR
VERSION:2.0
PRODID:-//aldridgegardens.com//NONSGML kigkonsult.se iCalcreator 2.30.10//
CALSCALE:GREGORIAN
METHOD:PUBLISH
UID:835fa261-cbfc-4c43-a26e-e5ca950c0f02
X-WR-CALDESC:One doggone good day for you and your best friends! Bring your
  leashed pets and enjoy a walk through the Gardens. There will be food\, d
 og-centered displays\, vendors\, and demonstrations from the Hoover Police
  K-9s. Saturday\, March 19\, 2016 from 9:00 a.m. to 5:00 p.m. For more inf
 ormation\, call us at 205-682-8019. Cost is $10 per person. Kids 10 and un
 der get in for $5. Proceeds benefit Shelby County Humane Society and Aldri
 dge Gardens. \n\nTickets may be purchased at the gate on the day of the ev
 ent OR in advance by using the link below.
X-WR-RELCALID:cf868f7b2309f81fc7be2c7cc351ec82
X-WR-TIMEZONE:America/Chicago
BEGIN:VTIMEZONE
TZID:America/Chicago
BEGIN:STANDARD
TZNAME:CST
DTSTART:20151101T020000
TZOFFSETFROM:-0500
TZOFFSETTO:-0600
RDATE:20161106T020000
END:STANDARD
BEGIN:DAYLIGHT
TZNAME:CDT
DTSTART:20160313T020000
TZOFFSETFROM:-0600
TZOFFSETTO:-0500
RDATE:20170312T020000
END:DAYLIGHT
END:VTIMEZONE
BEGIN:VEVENT
UID:e20deb63-e793-4ff5-a5aa-0f3ac235c973
DTSTAMP:20260422T222309Z
DESCRIPTION:One doggone good day for you and your best friends! Bring your 
 leashed pets and enjoy a walk through the Gardens. There will be food\, do
 g-centered displays\, vendors\, and demonstrations from the Hoover Police 
 K-9s. Saturday\, March 19\, 2016 from 9:00 a.m. to 5:00 p.m. For more info
 rmation\, call us at 205-682-8019. Cost is $10 per person. Kids 10 and und
 er get in for $5. Proceeds benefit Shelby County Humane Society and Aldrid
 ge Gardens. \n\nTickets may be purchased at the gate on the day of the eve
 nt OR in advance by using the link below.
DTSTART;TZID=America/Chicago:20160319T090000
DTEND;TZID=America/Chicago:20160319T170000
LOCATION:
SUMMARY:PAWS in the Gardens
END:VEVENT
END:VCALENDAR
