BEGIN:VCALENDAR
VERSION:2.0
PRODID:-//aldridgegardens.com//NONSGML kigkonsult.se iCalcreator 2.30.10//
CALSCALE:GREGORIAN
METHOD:PUBLISH
UID:5181dce9-2fc3-4fc5-bc9e-13e19fccb8e6
X-WR-CALDESC:Saturday mornings were made for this!\n\nYou can't go wrong wi
 th fresh air and a little exercise while on a guided tour of the Gardens. 
 Join Dr. Richard and Patricia Ryel for a walk on our grounds to catch a gl
 impse of the beautiful birds that are migrating through the area. This mon
 thly members-only event is free\, but we do ask that you kindly RSVP.  \n
 \nThe dates of this year's currently scheduled bird walks are:\nMarch 26\n
 April 16\nMay 21\nJune 18\nJuly 16\nAugust 20\nSeptember 17\nOctober 15\nN
 ovember 19
X-WR-RELCALID:22b1b2f4dba31df8591bb452ec12e0fb
X-WR-TIMEZONE:America/Chicago
BEGIN:VTIMEZONE
TZID:America/Chicago
BEGIN:STANDARD
TZNAME:CST
DTSTART:20151101T020000
TZOFFSETFROM:-0500
TZOFFSETTO:-0600
RDATE:20161106T020000
END:STANDARD
BEGIN:DAYLIGHT
TZNAME:CDT
DTSTART:20160313T020000
TZOFFSETFROM:-0600
TZOFFSETTO:-0500
RDATE:20170312T020000
END:DAYLIGHT
END:VTIMEZONE
BEGIN:VEVENT
UID:3a35bdae-fbcb-4c58-a98a-4e6655d389f7
DTSTAMP:20260422T223511Z
DESCRIPTION:Saturday mornings were made for this!\n\nYou can't go wrong wit
 h fresh air and a little exercise while on a guided tour of the Gardens. J
 oin Dr. Richard and Patricia Ryel for a walk on our grounds to catch a gli
 mpse of the beautiful birds that are migrating through the area. This mont
 hly members-only event is free\, but we do ask that you kindly RSVP.  \n\n
 The dates of this year's currently scheduled bird walks are:\nMarch 26\nAp
 ril 16\nMay 21\nJune 18\nJuly 16\nAugust 20\nSeptember 17\nOctober 15\nNov
 ember 19
DTSTART;TZID=America/Chicago:20160326T080000
DTEND;TZID=America/Chicago:20160326T100000
LOCATION:
SUMMARY:Members Only Guided Bird Walk
END:VEVENT
END:VCALENDAR
