BEGIN:VCALENDAR
VERSION:2.0
PRODID:-//aldridgegardens.com//NONSGML kigkonsult.se iCalcreator 2.30.10//
CALSCALE:GREGORIAN
METHOD:PUBLISH
UID:af4d9762-5cc0-4b35-aa0c-91e7a2a9897e
X-WR-CALDESC:It's time to design and plant your spring and summer container
 s! Join us for this fun workshop\, and not only will you learn the element
 s of planting design and appropriate plants and fertilizer\, but you'll wa
 lk away with a lovely terra cotta planter you have made yourself  for your
  deck\, patio\, or porch.   \n\nOur instructor\, Elise Bogdanchik\, has 18
  years of experience at Collier's Nursery and a degree in biology focusing
  on botany. She will share her horticultural expertise to help you learn t
 he secrets of creating your own beautiful containers.\n\n<b>Cost:</b> $40 
 Members/$48 Non Members (Includes 10' terra cotta pot\, soil\, fertilizer\
 , plants)\n\n<b>Space:</b> This workshop is limited to 20 people.\n\n<b>Re
 gistration Deadline:</b> Extended to March 31st (in order to purchase mate
 rials)\n
X-WR-RELCALID:9262da603f895e8e3eaffef0c9bccb4b
X-WR-TIMEZONE:America/Chicago
BEGIN:VTIMEZONE
TZID:America/Chicago
BEGIN:STANDARD
TZNAME:CST
DTSTART:20151101T020000
TZOFFSETFROM:-0500
TZOFFSETTO:-0600
RDATE:20161106T020000
END:STANDARD
BEGIN:DAYLIGHT
TZNAME:CDT
DTSTART:20160313T020000
TZOFFSETFROM:-0600
TZOFFSETTO:-0500
RDATE:20170312T020000
END:DAYLIGHT
END:VTIMEZONE
BEGIN:VEVENT
UID:92b7cbaa-6935-4d30-b5d7-9c926440b6ca
DTSTAMP:20260422T210245Z
DESCRIPTION:It's time to design and plant your spring and summer containers
 ! Join us for this fun workshop\, and not only will you learn the elements
  of planting design and appropriate plants and fertilizer\, but you'll wal
 k away with a lovely terra cotta planter you have made yourself  for your 
 deck\, patio\, or porch.   \n\nOur instructor\, Elise Bogdanchik\, has 18 
 years of experience at Collier's Nursery and a degree in biology focusing 
 on botany. She will share her horticultural expertise to help you learn th
 e secrets of creating your own beautiful containers.\n\n<b>Cost:</b> $40 M
 embers/$48 Non Members (Includes 10' terra cotta pot\, soil\, fertilizer\,
  plants)\n\n<b>Space:</b> This workshop is limited to 20 people.\n\n<b>Reg
 istration Deadline:</b> Extended to March 31st (in order to purchase mater
 ials)\n
DTSTART;TZID=America/Chicago:20160403T140000
DTEND;TZID=America/Chicago:20160403T160000
LOCATION:Aldridge Gardens
SUMMARY:Container Gardening Workshop
END:VEVENT
END:VCALENDAR
