BEGIN:VCALENDAR
VERSION:2.0
PRODID:-//aldridgegardens.com//NONSGML kigkonsult.se iCalcreator 2.30.10//
CALSCALE:GREGORIAN
METHOD:PUBLISH
UID:6fc2ecea-1904-4871-8b4b-e25a92e584b4
X-WR-CALDESC:Please join us as we welcome Durand Seay to Aldridge Gardens. 
 Propagator level members will enjoy their monthly wine reception\, beginni
 ng at 5 p.m.\, while mixing and mingling with our special guest. \n\nThe p
 aintings of Durand Seay\, artist and architect\, are inspired by a fascina
 tion with structures found in nature and expressions of time. There is an 
 association to symbols of balance\, serenity\, spirituality\, and how we c
 onnect as a people. The work is surreal at times\, exploring the subconsci
 ous mind through fantastic imagery. \n\nHear more about his work\, directl
 y from the artist\, at Aldridge Gardens on April 11th\, from 5 to 7:00 p.m
 .		 \n
X-WR-RELCALID:3e151a4e5f6641692c76f9cbaa6bd75e
X-WR-TIMEZONE:America/Chicago
BEGIN:VTIMEZONE
TZID:America/Chicago
BEGIN:STANDARD
TZNAME:CST
DTSTART:20151101T020000
TZOFFSETFROM:-0500
TZOFFSETTO:-0600
RDATE:20161106T020000
END:STANDARD
BEGIN:DAYLIGHT
TZNAME:CDT
DTSTART:20160313T020000
TZOFFSETFROM:-0600
TZOFFSETTO:-0500
RDATE:20170312T020000
END:DAYLIGHT
END:VTIMEZONE
BEGIN:VEVENT
UID:ba73f7d5-ed89-4451-939c-39023cc0b38e
DTSTAMP:20260422T210511Z
DESCRIPTION:Please join us as we welcome Durand Seay to Aldridge Gardens. P
 ropagator level members will enjoy their monthly wine reception\, beginnin
 g at 5 p.m.\, while mixing and mingling with our special guest. \n\nThe pa
 intings of Durand Seay\, artist and architect\, are inspired by a fascinat
 ion with structures found in nature and expressions of time. There is an a
 ssociation to symbols of balance\, serenity\, spirituality\, and how we co
 nnect as a people. The work is surreal at times\, exploring the subconscio
 us mind through fantastic imagery. \n\nHear more about his work\, directly
  from the artist\, at Aldridge Gardens on April 11th\, from 5 to 7:00 p.m.
 		 \n
DTSTART;TZID=America/Chicago:20160411T170000
DTEND;TZID=America/Chicago:20160411T190000
LOCATION:Eddie and Kay Aldridge Arts & Historical Collections Museum
SUMMARY:Propagators Reception: Durand Seay
END:VEVENT
END:VCALENDAR
