BEGIN:VCALENDAR
VERSION:2.0
PRODID:-//aldridgegardens.com//NONSGML kigkonsult.se iCalcreator 2.30.10//
CALSCALE:GREGORIAN
METHOD:PUBLISH
UID:ed59d4b9-889c-492d-afc4-5760c3ef4318
X-WR-CALDESC:Saturday mornings were made for this!\n\nYou can't go wrong wi
 th fresh air and a little exercise while on a guided tour of the Gardens. 
 Join Dr. Richard and Patricia Ryel for a walk on our grounds to catch a gl
 impse of the beautiful birds that are migrating through the area. This mon
 thly members-only event is free\, but we do ask that you kindly RSVP.  \n
 \nThe remaining dates of this year's currently scheduled bird walks are:\n
 April 16\nMay 21\nJune 18\nJuly 16\nAugust 20\nSeptember 17\nOctober 15\nN
 ovember 19
X-WR-RELCALID:00853e574e3965eedb1a898d42534ee5
X-WR-TIMEZONE:America/Chicago
BEGIN:VTIMEZONE
TZID:America/Chicago
BEGIN:STANDARD
TZNAME:CST
DTSTART:20151101T020000
TZOFFSETFROM:-0500
TZOFFSETTO:-0600
RDATE:20161106T020000
END:STANDARD
BEGIN:DAYLIGHT
TZNAME:CDT
DTSTART:20160313T020000
TZOFFSETFROM:-0600
TZOFFSETTO:-0500
RDATE:20170312T020000
END:DAYLIGHT
END:VTIMEZONE
BEGIN:VEVENT
UID:38d4d663-ceb2-4a8d-891c-775668614689
DTSTAMP:20260422T205830Z
DESCRIPTION:Saturday mornings were made for this!\n\nYou can't go wrong wit
 h fresh air and a little exercise while on a guided tour of the Gardens. J
 oin Dr. Richard and Patricia Ryel for a walk on our grounds to catch a gli
 mpse of the beautiful birds that are migrating through the area. This mont
 hly members-only event is free\, but we do ask that you kindly RSVP.  \n\n
 The remaining dates of this year's currently scheduled bird walks are:\nAp
 ril 16\nMay 21\nJune 18\nJuly 16\nAugust 20\nSeptember 17\nOctober 15\nNov
 ember 19
DTSTART;TZID=America/Chicago:20160416T080000
DTEND;TZID=America/Chicago:20160416T100000
LOCATION:
SUMMARY:Members Only Guided Bird Walk
END:VEVENT
END:VCALENDAR
