BEGIN:VCALENDAR
VERSION:2.0
PRODID:-//aldridgegardens.com//NONSGML kigkonsult.se iCalcreator 2.30.10//
CALSCALE:GREGORIAN
METHOD:PUBLISH
UID:284cbba7-4597-4e3e-a3eb-879ffbd52938
X-WR-CALDESC:Radical self-care. Balance. Healthy is the new skinny. Star Ro
 sser loves it all. That's what her yoga classes and lifestyle are about. 
 \n\nThis is a slow and gentle hatha yoga class that's great for anyone who
  wants to connect with their body and spirit in nature. The class will mee
 t beside the gift shop\, weather permitting\, from 9:30-10:45 on Wednesday
 s starting April 6th and going through May 25th for the first 8 week serie
 s.  \n\nThe cost is $15 per class. Class cancellations due to weather will
  be posted on Star's Southern Star Wellness Facebook page.\n\nParticipants
  can begin at any time within the 8 weeks and pre-registration is not requ
 ired.  If you have questions\, you can contact Star at southerstarwellness
 @gmail.com or at 205.821.2918.\n\nFor more information\, to RSVP for class
 es\, or check for cancellations due to weather\, like her Facebook page So
 uthern Star Wellness. A link is provided below.\n
X-WR-RELCALID:44b92a1aa13639538cc229ed07920d67
X-WR-TIMEZONE:America/Chicago
BEGIN:VTIMEZONE
TZID:America/Chicago
BEGIN:STANDARD
TZNAME:CST
DTSTART:20151101T020000
TZOFFSETFROM:-0500
TZOFFSETTO:-0600
RDATE:20161106T020000
END:STANDARD
BEGIN:DAYLIGHT
TZNAME:CDT
DTSTART:20160313T020000
TZOFFSETFROM:-0600
TZOFFSETTO:-0500
RDATE:20170312T020000
END:DAYLIGHT
END:VTIMEZONE
BEGIN:VEVENT
UID:d4798067-9d37-4c0d-8ff2-e3ff9972d76f
DTSTAMP:20260422T211213Z
DESCRIPTION:Radical self-care. Balance. Healthy is the new skinny. Star Ros
 ser loves it all. That's what her yoga classes and lifestyle are about. \n
 \nThis is a slow and gentle hatha yoga class that's great for anyone who w
 ants to connect with their body and spirit in nature. The class will meet 
 beside the gift shop\, weather permitting\, from 9:30-10:45 on Wednesdays 
 starting April 6th and going through May 25th for the first 8 week series.
   \n\nThe cost is $15 per class. Class cancellations due to weather will b
 e posted on Star's Southern Star Wellness Facebook page.\n\nParticipants c
 an begin at any time within the 8 weeks and pre-registration is not requir
 ed.  If you have questions\, you can contact Star at southerstarwellness@g
 mail.com or at 205.821.2918.\n\nFor more information\, to RSVP for classes
 \, or check for cancellations due to weather\, like her Facebook page Sout
 hern Star Wellness. A link is provided below.\n
DTSTART;TZID=America/Chicago:20160427T093000
DTEND;TZID=America/Chicago:20160427T104500
LOCATION:The patio near Roots Garden and Gift Shop
SUMMARY:Gentle Yoga
END:VEVENT
END:VCALENDAR
