BEGIN:VCALENDAR
VERSION:2.0
PRODID:-//aldridgegardens.com//NONSGML kigkonsult.se iCalcreator 2.30.10//
CALSCALE:GREGORIAN
METHOD:PUBLISH
UID:7ba3cc0d-04a0-49e1-b07d-07e6b715cd3a
X-WR-CALDESC:Join hydrangea expert <b>David Doggett</b> and rosarian <b>Pau
 l Saeger</b>\, on Saturday\, April 30th\, at 10 a.m.\, as they discuss the
 ir respective plants with those in attendance. They'll be  talking about t
 he hydrangea and rose varieties that will be available for purchase at the
  spring plant sale. This free introductory session will cover selection an
 d care of hydrangeas and roses. It is open to the public\, but no shopping
  yet! \n\nThe annual sale will begin for Gardens members on <a href='http:
 //aldridgegardens.com/education/events/spring_event_calendar.html/event/20
 16/05/05/members-only-spring-plant-sale-preview/120347'>Thursday\, May 5th
 </a> and will be open to the public on <a href='http://aldridgegardens.com
 /education/events/spring_event_calendar.html/event/2016/05/06/annual-sprin
 g-plant-sale/120348'> Friday the 6th</a> and <a href='http://aldridgegarde
 ns.com/education/events/spring_event_calendar.html/event/2016/05/07/annual
 -spring-plant-sale/120349'>Saturday the 7th</a>.\n
X-WR-RELCALID:9d48e14ed2f0cea58df6115088b1a30c
X-WR-TIMEZONE:America/Chicago
BEGIN:VTIMEZONE
TZID:America/Chicago
BEGIN:STANDARD
TZNAME:CST
DTSTART:20151101T020000
TZOFFSETFROM:-0500
TZOFFSETTO:-0600
RDATE:20161106T020000
END:STANDARD
BEGIN:DAYLIGHT
TZNAME:CDT
DTSTART:20160313T020000
TZOFFSETFROM:-0600
TZOFFSETTO:-0500
RDATE:20170312T020000
END:DAYLIGHT
END:VTIMEZONE
BEGIN:VEVENT
UID:e8a1213a-ae6b-4516-ba20-b3faa53f2157
DTSTAMP:20260422T212353Z
DESCRIPTION:Join hydrangea expert <b>David Doggett</b> and rosarian <b>Paul
  Saeger</b>\, on Saturday\, April 30th\, at 10 a.m.\, as they discuss thei
 r respective plants with those in attendance. They'll be  talking about th
 e hydrangea and rose varieties that will be available for purchase at the 
 spring plant sale. This free introductory session will cover selection and
  care of hydrangeas and roses. It is open to the public\, but no shopping 
 yet! \n\nThe annual sale will begin for Gardens members on <a href='http:/
 /aldridgegardens.com/education/events/spring_event_calendar.html/event/201
 6/05/05/members-only-spring-plant-sale-preview/120347'>Thursday\, May 5th<
 /a> and will be open to the public on <a href='http://aldridgegardens.com/
 education/events/spring_event_calendar.html/event/2016/05/06/annual-spring
 -plant-sale/120348'> Friday the 6th</a> and <a href='http://aldridgegarden
 s.com/education/events/spring_event_calendar.html/event/2016/05/07/annual-
 spring-plant-sale/120349'>Saturday the 7th</a>.\n
DTSTART;TZID=America/Chicago:20160430T100000
DTEND;TZID=America/Chicago:20160430T120000
LOCATION:
SUMMARY:Preview of Hydrangeas and Roses for sale at the Aldridge Gardens Pl
 ant Sale
END:VEVENT
END:VCALENDAR
