BEGIN:VCALENDAR
VERSION:2.0
PRODID:-//aldridgegardens.com//NONSGML kigkonsult.se iCalcreator 2.30.10//
CALSCALE:GREGORIAN
METHOD:PUBLISH
UID:a57dcb61-41dc-446d-948e-efe30005c261
X-WR-CALDESC:Join us for our annual Spring Plant Sale. Find the perfect pla
 nts for your container or garden spot! Volunteers and gardeners will be on
  hand to help with selections and to give advice about placement\, care an
 d maintenance.
X-WR-RELCALID:13308a2b2fd1d7813164d53ca63ff743
X-WR-TIMEZONE:America/Chicago
BEGIN:VTIMEZONE
TZID:America/Chicago
BEGIN:STANDARD
TZNAME:CST
DTSTART:20151101T020000
TZOFFSETFROM:-0500
TZOFFSETTO:-0600
RDATE:20161106T020000
RDATE:20171105T020000
END:STANDARD
BEGIN:DAYLIGHT
TZNAME:CDT
DTSTART:20160313T020000
TZOFFSETFROM:-0600
TZOFFSETTO:-0500
RDATE:20170312T020000
END:DAYLIGHT
END:VTIMEZONE
BEGIN:VEVENT
UID:d5277839-4120-4bc8-8ac2-a406488d2485
DTSTAMP:20260422T194915Z
DESCRIPTION:Join us for our annual Spring Plant Sale. Find the perfect plan
 ts for your container or garden spot! Volunteers and gardeners will be on 
 hand to help with selections and to give advice about placement\, care and
  maintenance.
DTSTART;TZID=America/Chicago:20160507T090000
DTEND;TZID=America/Chicago:20160507T120000
LOCATION:
SUMMARY:Annual Spring Plant Sale
END:VEVENT
END:VCALENDAR
