BEGIN:VCALENDAR
VERSION:2.0
PRODID:-//aldridgegardens.com//NONSGML kigkonsult.se iCalcreator 2.30.10//
CALSCALE:GREGORIAN
METHOD:PUBLISH
UID:ba1c6694-7978-4b98-bb32-381e7439be98
X-WR-CALDESC:Hydrangeas are a major component of many southern gardens. Thi
 s hands-on workshop will teach you an easy way to propagate hydrangeas for
  yourself. Class fee includes pot\, soil\, 3 hydrangea cuttings and hand-o
 uts. Class members may root up to three fresh hydrangea cuttings to take h
 ome.\n\nBring a clear\, empty 2 liter plastic soda bottle\, your pruners a
 nd scissors for trimming leaves. We’ll also learn how to propagate oakleaf
  hydrangeas from seed and layering. Enjoy hydrangeas you have propagated t
 hroughout your garden.\n\nInstructors: David Doggett and Willie Edmiston\,
  Hydrangea Propagators\n\nCost: $16 Members/$21 Non-Members. \n\nSpace: Cl
 ass size is limited.\n\nDate: Saturday\, May 14\, 2016.   9 – 11 a.m.  (Ra
 in Date:  Saturday\, May 28)
X-WR-RELCALID:63c5935bfa4821ac9d2a8bb2e62a4f5d
X-WR-TIMEZONE:America/Chicago
BEGIN:VTIMEZONE
TZID:America/Chicago
BEGIN:STANDARD
TZNAME:CST
DTSTART:20151101T020000
TZOFFSETFROM:-0500
TZOFFSETTO:-0600
RDATE:20161106T020000
RDATE:20171105T020000
END:STANDARD
BEGIN:DAYLIGHT
TZNAME:CDT
DTSTART:20160313T020000
TZOFFSETFROM:-0600
TZOFFSETTO:-0500
RDATE:20170312T020000
END:DAYLIGHT
END:VTIMEZONE
BEGIN:VEVENT
UID:63108af0-5118-4807-9fbb-d9c68ac9ebee
DTSTAMP:20260422T193818Z
DESCRIPTION:Hydrangeas are a major component of many southern gardens. This
  hands-on workshop will teach you an easy way to propagate hydrangeas for 
 yourself. Class fee includes pot\, soil\, 3 hydrangea cuttings and hand-ou
 ts. Class members may root up to three fresh hydrangea cuttings to take ho
 me.\n\nBring a clear\, empty 2 liter plastic soda bottle\, your pruners an
 d scissors for trimming leaves. We’ll also learn how to propagate oakleaf 
 hydrangeas from seed and layering. Enjoy hydrangeas you have propagated th
 roughout your garden.\n\nInstructors: David Doggett and Willie Edmiston\, 
 Hydrangea Propagators\n\nCost: $16 Members/$21 Non-Members. \n\nSpace: Cla
 ss size is limited.\n\nDate: Saturday\, May 14\, 2016.   9 – 11 a.m.  (Rai
 n Date:  Saturday\, May 28)
DTSTART;TZID=America/Chicago:20160514T090000
DTEND;TZID=America/Chicago:20160514T110000
LOCATION:Aldridge Gardens' Hydrangea Garden\, Dirr Collection
SUMMARY:Hydrangea Propagation Workshop
END:VEVENT
END:VCALENDAR
