BEGIN:VCALENDAR
VERSION:2.0
PRODID:-//aldridgegardens.com//NONSGML kigkonsult.se iCalcreator 2.30.10//
CALSCALE:GREGORIAN
METHOD:PUBLISH
UID:d0e12d10-8944-4602-8f96-cc4d75951f32
X-WR-CALDESC:<b>Summer Camps for the week of June 6 - 10</b>\n\nAmerican Gi
 rls in Aldridge Gardens Entering Grades 2 – 4\nAmerican Girls in Aldridge 
 Gardens Entering Grades 5K – 2\nOutdoor Makers: Creating Creative Kids! En
 tering Grades 2 – 4\n
X-WR-RELCALID:4a81803e0ee708209620229a2fe29036
X-WR-TIMEZONE:America/Chicago
BEGIN:VTIMEZONE
TZID:America/Chicago
BEGIN:STANDARD
TZNAME:CST
DTSTART:20151101T020000
TZOFFSETFROM:-0500
TZOFFSETTO:-0600
RDATE:20161106T020000
RDATE:20171105T020000
END:STANDARD
BEGIN:DAYLIGHT
TZNAME:CDT
DTSTART:20160313T020000
TZOFFSETFROM:-0600
TZOFFSETTO:-0500
RDATE:20170312T020000
END:DAYLIGHT
END:VTIMEZONE
BEGIN:VEVENT
UID:e4f72e50-d2a7-4ba0-bd37-c15f1aba763f
DTSTAMP:20260422T180141Z
DESCRIPTION:<b>Summer Camps for the week of June 6 - 10</b>\n\nAmerican Gir
 ls in Aldridge Gardens Entering Grades 2 – 4\nAmerican Girls in Aldridge G
 ardens Entering Grades 5K – 2\nOutdoor Makers: Creating Creative Kids! Ent
 ering Grades 2 – 4\n
DTSTART;TZID=America/Chicago:20160608T090000
DTEND;TZID=America/Chicago:20160608T120000
LOCATION:
SUMMARY:Summer Camps
END:VEVENT
END:VCALENDAR
