BEGIN:VCALENDAR
VERSION:2.0
PRODID:-//aldridgegardens.com//NONSGML kigkonsult.se iCalcreator 2.30.10//
CALSCALE:GREGORIAN
METHOD:PUBLISH
UID:30dabc18-858a-4371-bcb8-220816d4da51
X-WR-CALDESC:<b>Summer Camps for the week of June 6 - 10</b>\n\nAmerican Gi
 rls in Aldridge Gardens Entering Grades 2 – 4\nAmerican Girls in Aldridge 
 Gardens Entering Grades 5K – 2\nOutdoor Makers: Creating Creative Kids! En
 tering Grades 2 – 4\n
X-WR-RELCALID:8c88acc5151a82c636e90fccd779b8ed
X-WR-TIMEZONE:America/Chicago
BEGIN:VTIMEZONE
TZID:America/Chicago
BEGIN:STANDARD
TZNAME:CST
DTSTART:20151101T020000
TZOFFSETFROM:-0500
TZOFFSETTO:-0600
RDATE:20161106T020000
RDATE:20171105T020000
END:STANDARD
BEGIN:DAYLIGHT
TZNAME:CDT
DTSTART:20160313T020000
TZOFFSETFROM:-0600
TZOFFSETTO:-0500
RDATE:20170312T020000
END:DAYLIGHT
END:VTIMEZONE
BEGIN:VEVENT
UID:3233244a-8aae-402b-9a4b-8b0f68ccc8fd
DTSTAMP:20260422T183704Z
DESCRIPTION:<b>Summer Camps for the week of June 6 - 10</b>\n\nAmerican Gir
 ls in Aldridge Gardens Entering Grades 2 – 4\nAmerican Girls in Aldridge G
 ardens Entering Grades 5K – 2\nOutdoor Makers: Creating Creative Kids! Ent
 ering Grades 2 – 4\n
DTSTART;TZID=America/Chicago:20160609T090000
DTEND;TZID=America/Chicago:20160609T120000
LOCATION:
SUMMARY:Summer Camps
END:VEVENT
END:VCALENDAR
