BEGIN:VCALENDAR
VERSION:2.0
PRODID:-//aldridgegardens.com//NONSGML kigkonsult.se iCalcreator 2.30.10//
CALSCALE:GREGORIAN
METHOD:PUBLISH
UID:4ebafe9e-ec4f-493c-b63a-d3de01adb40d
X-WR-CALDESC:<b>Summer Camps for the week of June 6 - 10</b>\n\nAmerican Gi
 rls in Aldridge Gardens Entering Grades 2 – 4\nAmerican Girls in Aldridge 
 Gardens Entering Grades 5K – 2\nOutdoor Makers: Creating Creative Kids! En
 tering Grades 2 – 4\n
X-WR-RELCALID:c465c6087ad305377aa55991c1b602cf
X-WR-TIMEZONE:America/Chicago
BEGIN:VTIMEZONE
TZID:America/Chicago
BEGIN:STANDARD
TZNAME:CST
DTSTART:20151101T020000
TZOFFSETFROM:-0500
TZOFFSETTO:-0600
RDATE:20161106T020000
RDATE:20171105T020000
END:STANDARD
BEGIN:DAYLIGHT
TZNAME:CDT
DTSTART:20160313T020000
TZOFFSETFROM:-0600
TZOFFSETTO:-0500
RDATE:20170312T020000
END:DAYLIGHT
END:VTIMEZONE
BEGIN:VEVENT
UID:d95c72fd-f2ff-4a09-9c2b-2e4b4a9601f8
DTSTAMP:20260422T175917Z
DESCRIPTION:<b>Summer Camps for the week of June 6 - 10</b>\n\nAmerican Gir
 ls in Aldridge Gardens Entering Grades 2 – 4\nAmerican Girls in Aldridge G
 ardens Entering Grades 5K – 2\nOutdoor Makers: Creating Creative Kids! Ent
 ering Grades 2 – 4\n
DTSTART;TZID=America/Chicago:20160610T090000
DTEND;TZID=America/Chicago:20160610T120000
LOCATION:
SUMMARY:Summer Camps
END:VEVENT
END:VCALENDAR
