BEGIN:VCALENDAR
VERSION:2.0
PRODID:-//aldridgegardens.com//NONSGML kigkonsult.se iCalcreator 2.30.10//
CALSCALE:GREGORIAN
METHOD:PUBLISH
UID:ec6ea1f1-276c-40a3-a244-fe8291aeeb64
X-WR-CALDESC:<b>HYDRANGEAS UNDER THE STARS - SOLD OUT!</b>\n\nJoin us for H
 oover's social event of the year under the stars! Make plans now to be a p
 art of our premier annual fundraiser and garden gala. Enjoy a special even
 ing of great food\, entertainment\, and silent and live auctions all to be
 nefit Aldridge Gardens. \n\nReception and silent auction begin at 6:00.\nD
 inner and live auction begin at 7:00.\n\nDonations obtained throughout the
  year and through events like Hydrangeas Under the Stars help our Gardens 
 grow. Your support allows us to continue to provide a unique garden experi
 ence by offering exceptional venues for weddings\, parties and social and 
 corporate events\, serving as a source for educational field trips\, progr
 ams and camps for thousands of children each year\, and being a tranquil d
 estination perfect for walking\, bird watching\, yoga\, reflection and so 
 much more. \n\n<b>Individual tickets and whole tables of eight are no long
 er available. This event has sold out again this year!</b> \n\nTake a look
  at our presenting sponsorship opportunity and as well as our tickets and 
 sponsorship packages in the related links section below our contact inform
 ation. Or call us for auction item donations\, sponsorship opportunities\,
  and to find out how you can be part of this terrific night of fun and fun
 draising! \n\nTo get a better idea of the event\, see our recap of the <a 
 href='http://aldridgegardens.com/education/events/annual_events/hydrangeas
 -under-the-stars.html'>2015 Hydrangeas Under the Stars! </a>\n\n<b>THERE A
 RE NO REMAINING TICKETS. WE ARE SOLD OUT!</b>
X-WR-RELCALID:0a0f32fa5329192ccd68857db7615b15
X-WR-TIMEZONE:America/Chicago
BEGIN:VTIMEZONE
TZID:America/Chicago
BEGIN:STANDARD
TZNAME:CST
DTSTART:20151101T020000
TZOFFSETFROM:-0500
TZOFFSETTO:-0600
RDATE:20161106T020000
RDATE:20171105T020000
END:STANDARD
BEGIN:DAYLIGHT
TZNAME:CDT
DTSTART:20160313T020000
TZOFFSETFROM:-0600
TZOFFSETTO:-0500
RDATE:20170312T020000
END:DAYLIGHT
END:VTIMEZONE
BEGIN:VEVENT
UID:24c15e60-d88b-4974-b667-439187d8fa4c
DTSTAMP:20260422T175728Z
DESCRIPTION:<b>HYDRANGEAS UNDER THE STARS - SOLD OUT!</b>\n\nJoin us for Ho
 over's social event of the year under the stars! Make plans now to be a pa
 rt of our premier annual fundraiser and garden gala. Enjoy a special eveni
 ng of great food\, entertainment\, and silent and live auctions all to ben
 efit Aldridge Gardens. \n\nReception and silent auction begin at 6:00.\nDi
 nner and live auction begin at 7:00.\n\nDonations obtained throughout the 
 year and through events like Hydrangeas Under the Stars help our Gardens g
 row. Your support allows us to continue to provide a unique garden experie
 nce by offering exceptional venues for weddings\, parties and social and c
 orporate events\, serving as a source for educational field trips\, progra
 ms and camps for thousands of children each year\, and being a tranquil de
 stination perfect for walking\, bird watching\, yoga\, reflection and so m
 uch more. \n\n<b>Individual tickets and whole tables of eight are no longe
 r available. This event has sold out again this year!</b> \n\nTake a look 
 at our presenting sponsorship opportunity and as well as our tickets and s
 ponsorship packages in the related links section below our contact informa
 tion. Or call us for auction item donations\, sponsorship opportunities\, 
 and to find out how you can be part of this terrific night of fun and fund
 raising! \n\nTo get a better idea of the event\, see our recap of the <a h
 ref='http://aldridgegardens.com/education/events/annual_events/hydrangeas-
 under-the-stars.html'>2015 Hydrangeas Under the Stars! </a>\n\n<b>THERE AR
 E NO REMAINING TICKETS. WE ARE SOLD OUT!</b>
DTSTART;TZID=America/Chicago:20160611T180000
DTEND;TZID=America/Chicago:20160611T210000
LOCATION:
SUMMARY:Hydrangeas Under the Stars
END:VEVENT
END:VCALENDAR
