BEGIN:VCALENDAR
VERSION:2.0
PRODID:-//aldridgegardens.com//NONSGML kigkonsult.se iCalcreator 2.30.10//
CALSCALE:GREGORIAN
METHOD:PUBLISH
UID:b952bb59-62b3-4ad5-826e-c27ce57bc04f
X-WR-CALDESC:Please join us as we welcome Maurice Cook to Aldridge Gardens.
  Propagator level members will enjoy their monthly wine reception\, beginn
 ing at 5 p.m.\, while mixing and mingling with our special guest. \n\nMaur
 ice Cook’s colorful folk art paintings will be displayed inside the galler
 y through the months of June and July. His boldly colored paintings tell s
 tories of simpler times and rural life in Alabama. Uniquely\, his subjects
  don't have faces. He paints them without facial features to create images
  that can be universal. Cook explains\, “I want all people to relate to my
  paintings.  I try to tell the story with body language.”\n\nHear more abo
 ut his work\, directly from the artist\, at Aldridge Gardens on June 13th\
 , from 5 to 7:00 p.m.		 \n
X-WR-RELCALID:ebcc18986eab23b86d88d7e763b631d8
X-WR-TIMEZONE:America/Chicago
BEGIN:VTIMEZONE
TZID:America/Chicago
BEGIN:STANDARD
TZNAME:CST
DTSTART:20151101T020000
TZOFFSETFROM:-0500
TZOFFSETTO:-0600
RDATE:20161106T020000
RDATE:20171105T020000
END:STANDARD
BEGIN:DAYLIGHT
TZNAME:CDT
DTSTART:20160313T020000
TZOFFSETFROM:-0600
TZOFFSETTO:-0500
RDATE:20170312T020000
END:DAYLIGHT
END:VTIMEZONE
BEGIN:VEVENT
UID:434c700d-afbb-4265-9b6a-ddf3da1a3427
DTSTAMP:20260422T175722Z
DESCRIPTION:Please join us as we welcome Maurice Cook to Aldridge Gardens. 
 Propagator level members will enjoy their monthly wine reception\, beginni
 ng at 5 p.m.\, while mixing and mingling with our special guest. \n\nMauri
 ce Cook’s colorful folk art paintings will be displayed inside the gallery
  through the months of June and July. His boldly colored paintings tell st
 ories of simpler times and rural life in Alabama. Uniquely\, his subjects 
 don't have faces. He paints them without facial features to create images 
 that can be universal. Cook explains\, “I want all people to relate to my 
 paintings.  I try to tell the story with body language.”\n\nHear more abou
 t his work\, directly from the artist\, at Aldridge Gardens on June 13th\,
  from 5 to 7:00 p.m.		 \n
DTSTART;TZID=America/Chicago:20160613T170000
DTEND;TZID=America/Chicago:20160613T190000
LOCATION:Eddie and Kay Aldridge Arts & Historical Collections Museum
SUMMARY:Propagators Reception: Maurice Cook
END:VEVENT
END:VCALENDAR
