BEGIN:VCALENDAR
VERSION:2.0
PRODID:-//aldridgegardens.com//NONSGML kigkonsult.se iCalcreator 2.30.10//
CALSCALE:GREGORIAN
METHOD:PUBLISH
UID:8fc131c7-f6d3-44a4-8efd-502fa72e7c8c
X-WR-CALDESC:<b> Summer Camps for the week of June 13-17</b>\n\nAmerican Gi
 rls in Aldridge Gardens Entering Grades 2 – 4\nAmerican Girls in Aldridge 
 Gardens Entering Grades 5K – 2\nEngineering FUNdamentals: Create\, Constru
 ct\, Connect! Entering Grades 5K – 2\n\n
X-WR-RELCALID:69277c2bc355195aff6f1776d752fc53
X-WR-TIMEZONE:America/Chicago
BEGIN:VTIMEZONE
TZID:America/Chicago
BEGIN:STANDARD
TZNAME:CST
DTSTART:20151101T020000
TZOFFSETFROM:-0500
TZOFFSETTO:-0600
RDATE:20161106T020000
RDATE:20171105T020000
END:STANDARD
BEGIN:DAYLIGHT
TZNAME:CDT
DTSTART:20160313T020000
TZOFFSETFROM:-0600
TZOFFSETTO:-0500
RDATE:20170312T020000
END:DAYLIGHT
END:VTIMEZONE
BEGIN:VEVENT
UID:b2ae222c-6a25-48ea-b483-0db9d47c4b5b
DTSTAMP:20260422T181932Z
DESCRIPTION:<b> Summer Camps for the week of June 13-17</b>\n\nAmerican Gir
 ls in Aldridge Gardens Entering Grades 2 – 4\nAmerican Girls in Aldridge G
 ardens Entering Grades 5K – 2\nEngineering FUNdamentals: Create\, Construc
 t\, Connect! Entering Grades 5K – 2\n\n
DTSTART;TZID=America/Chicago:20160614T090000
DTEND;TZID=America/Chicago:20160614T120000
LOCATION:
SUMMARY:Summer Camps
END:VEVENT
END:VCALENDAR
