BEGIN:VCALENDAR
VERSION:2.0
PRODID:-//aldridgegardens.com//NONSGML kigkonsult.se iCalcreator 2.30.10//
CALSCALE:GREGORIAN
METHOD:PUBLISH
UID:1cbebaf2-cc74-4038-bd2a-c1388c288284
X-WR-CALDESC:<b> Summer Camps for the week of June 13-17</b>\n\nAmerican Gi
 rls in Aldridge Gardens Entering Grades 2 – 4\nAmerican Girls in Aldridge 
 Gardens Entering Grades 5K – 2\nEngineering FUNdamentals: Create\, Constru
 ct\, Connect! Entering Grades 5K – 2\n\n
X-WR-RELCALID:bcc91fb503fe8029911e6fab920a40fd
X-WR-TIMEZONE:America/Chicago
BEGIN:VTIMEZONE
TZID:America/Chicago
BEGIN:STANDARD
TZNAME:CST
DTSTART:20151101T020000
TZOFFSETFROM:-0500
TZOFFSETTO:-0600
RDATE:20161106T020000
RDATE:20171105T020000
END:STANDARD
BEGIN:DAYLIGHT
TZNAME:CDT
DTSTART:20160313T020000
TZOFFSETFROM:-0600
TZOFFSETTO:-0500
RDATE:20170312T020000
END:DAYLIGHT
END:VTIMEZONE
BEGIN:VEVENT
UID:f3923d54-b540-49aa-a8c1-7075bf586cdc
DTSTAMP:20260422T175911Z
DESCRIPTION:<b> Summer Camps for the week of June 13-17</b>\n\nAmerican Gir
 ls in Aldridge Gardens Entering Grades 2 – 4\nAmerican Girls in Aldridge G
 ardens Entering Grades 5K – 2\nEngineering FUNdamentals: Create\, Construc
 t\, Connect! Entering Grades 5K – 2\n\n
DTSTART;TZID=America/Chicago:20160616T090000
DTEND;TZID=America/Chicago:20160616T120000
LOCATION:
SUMMARY:Summer Camps
END:VEVENT
END:VCALENDAR
